BEGIN:VCALENDAR
VERSION:2.0
PRODID:-//The Dragon Sanctuary - ECPv6.15.20//NONSGML v1.0//EN
CALSCALE:GREGORIAN
METHOD:PUBLISH
X-ORIGINAL-URL:https://dragonsanctuary.co.uk
X-WR-CALDESC:Events for The Dragon Sanctuary
REFRESH-INTERVAL;VALUE=DURATION:PT1H
X-Robots-Tag:noindex
X-PUBLISHED-TTL:PT1H
BEGIN:VTIMEZONE
TZID:Europe/London
BEGIN:DAYLIGHT
TZOFFSETFROM:+0000
TZOFFSETTO:+0100
TZNAME:BST
DTSTART:20170326T010000
END:DAYLIGHT
BEGIN:STANDARD
TZOFFSETFROM:+0100
TZOFFSETTO:+0000
TZNAME:GMT
DTSTART:20171029T010000
END:STANDARD
BEGIN:DAYLIGHT
TZOFFSETFROM:+0000
TZOFFSETTO:+0100
TZNAME:BST
DTSTART:20180325T010000
END:DAYLIGHT
BEGIN:STANDARD
TZOFFSETFROM:+0100
TZOFFSETTO:+0000
TZNAME:GMT
DTSTART:20181028T010000
END:STANDARD
BEGIN:DAYLIGHT
TZOFFSETFROM:+0000
TZOFFSETTO:+0100
TZNAME:BST
DTSTART:20190331T010000
END:DAYLIGHT
BEGIN:STANDARD
TZOFFSETFROM:+0100
TZOFFSETTO:+0000
TZNAME:GMT
DTSTART:20191027T010000
END:STANDARD
BEGIN:DAYLIGHT
TZOFFSETFROM:+0000
TZOFFSETTO:+0100
TZNAME:BST
DTSTART:20200329T010000
END:DAYLIGHT
BEGIN:STANDARD
TZOFFSETFROM:+0100
TZOFFSETTO:+0000
TZNAME:GMT
DTSTART:20201025T010000
END:STANDARD
BEGIN:DAYLIGHT
TZOFFSETFROM:+0000
TZOFFSETTO:+0100
TZNAME:BST
DTSTART:20210328T010000
END:DAYLIGHT
BEGIN:STANDARD
TZOFFSETFROM:+0100
TZOFFSETTO:+0000
TZNAME:GMT
DTSTART:20211031T010000
END:STANDARD
END:VTIMEZONE
BEGIN:VEVENT
DTSTART;TZID=Europe/London:20200201T190000
DTEND;TZID=Europe/London:20200201T200000
DTSTAMP:20260424T121852
CREATED:20191101T120255Z
LAST-MODIFIED:20200113T174856Z
UID:10000219-1580583600-1580587200@dragonsanctuary.co.uk
SUMMARY:Tales of Robin Hood
DESCRIPTION:Sorry but this event has been rescheduled for Saturday 8th February. See the event page here: https://dragonsanctuary.co.uk/event/tales-of-robin-hood-7pm-show/
URL:https://dragonsanctuary.co.uk/event/tales-of-robin-hood-2/
LOCATION:The Dragon Sanctuary\, 34 Bossell Road\, Buckfastleigh\, Devon\, TQ11 0DD\, United Kingdom
CATEGORIES:Festival of Puppetry & Storytelling
ATTACH;FMTTYPE=image/jpeg:https://dragonsanctuary.co.uk/wp-content/uploads/2019/11/ROBIN-HOOD-rescheduled.jpg
ORGANIZER;CN="Leo Sofer":MAILTO:info@dragonsanctuary.co.uk
GEO:50.4803699;-3.7806423
X-APPLE-STRUCTURED-LOCATION;VALUE=URI;X-ADDRESS=The Dragon Sanctuary 34 Bossell Road Buckfastleigh Devon TQ11 0DD United Kingdom;X-APPLE-RADIUS=500;X-TITLE=34 Bossell Road:geo:-3.7806423,50.4803699
END:VEVENT
BEGIN:VEVENT
DTSTART;TZID=Europe/London:20200201T170000
DTEND;TZID=Europe/London:20200201T180000
DTSTAMP:20260424T121852
CREATED:20191029T140138Z
LAST-MODIFIED:20200113T174507Z
UID:10000217-1580576400-1580580000@dragonsanctuary.co.uk
SUMMARY:Tales of Robin Hood
DESCRIPTION:Sorry but this event has been rescheduled for Saturday 8th February. See the event page here: https://dragonsanctuary.co.uk/event/tales-of-robin-hood-3/
URL:https://dragonsanctuary.co.uk/event/tales-of-robin-hood/
LOCATION:The Dragon Sanctuary\, 34 Bossell Road\, Buckfastleigh\, Devon\, TQ11 0DD\, United Kingdom
CATEGORIES:Festival of Puppetry & Storytelling
ATTACH;FMTTYPE=image/jpeg:https://dragonsanctuary.co.uk/wp-content/uploads/2019/11/ROBIN-HOOD-rescheduled.jpg
ORGANIZER;CN="Leo Sofer":MAILTO:info@dragonsanctuary.co.uk
GEO:50.4803699;-3.7806423
X-APPLE-STRUCTURED-LOCATION;VALUE=URI;X-ADDRESS=The Dragon Sanctuary 34 Bossell Road Buckfastleigh Devon TQ11 0DD United Kingdom;X-APPLE-RADIUS=500;X-TITLE=34 Bossell Road:geo:-3.7806423,50.4803699
END:VEVENT
BEGIN:VEVENT
DTSTART;TZID=Europe/London:20200125T170000
DTEND;TZID=Europe/London:20200125T180000
DTSTAMP:20260424T121852
CREATED:20191029T134623Z
LAST-MODIFIED:20191203T175959Z
UID:10000216-1579971600-1579975200@dragonsanctuary.co.uk
SUMMARY:Odysseus and Penelope
DESCRIPTION:Katy Cawkwell tells the story of Greek mythology’s most famous couple.  Come and hear how cunning Odysseus outwitted first the Trojans and then the monstrous Cyclops\, while resourceful Penelope fended off a hoard of greedy Suitors.  \nSuitable for ages 7+.  \nRunning time: 50 minutes. \nThis is part of the Jellyfish Festival of Puppetry and Storytelling\, ten magical shows for children running throughout winter 2020 in Buckfastleigh
URL:https://dragonsanctuary.co.uk/event/odysseus-and-penelope/
LOCATION:The Dragon Sanctuary\, 34 Bossell Road\, Buckfastleigh\, Devon\, TQ11 0DD\, United Kingdom
CATEGORIES:Festival of Puppetry & Storytelling
ATTACH;FMTTYPE=image/jpeg:https://dragonsanctuary.co.uk/wp-content/uploads/2019/10/Katy-Cawkwell.jpeg
ORGANIZER;CN="Leo Sofer":MAILTO:info@dragonsanctuary.co.uk
GEO:50.4803699;-3.7806423
X-APPLE-STRUCTURED-LOCATION;VALUE=URI;X-ADDRESS=The Dragon Sanctuary 34 Bossell Road Buckfastleigh Devon TQ11 0DD United Kingdom;X-APPLE-RADIUS=500;X-TITLE=34 Bossell Road:geo:-3.7806423,50.4803699
END:VEVENT
BEGIN:VEVENT
DTSTART;TZID=Europe/London:20200118T190000
DTEND;TZID=Europe/London:20200118T200000
DTSTAMP:20260424T121852
CREATED:20191029T121135Z
LAST-MODIFIED:20191203T175946Z
UID:10000215-1579374000-1579377600@dragonsanctuary.co.uk
SUMMARY:Hansel & Gretel
DESCRIPTION:Clockwork Moth present a shadow play for adults and children.  \nLose yourself in the woods and follow the scent of sugar in this classic tale by The Brother’s Grimm\, told through storytelling\, shadow-puppetry and live music. Look “behind the scenes” after the show! \nLength of show – 45 mins \nSuitable for all ages\, recommended 4+ \nLose yourself in the woods and follow the scent of sugar in this classic tale by The Brother’s Grimm\, told through storytelling\, shadow-puppetry and live music. \nThe Clockwork Moth have been making shadow-puppetry since 2006. Their work is mesmerising\, darkly funny and exquistely detailed\, inspired by the likes of Jan Pienkowski and Lotti Reineger. Hansel & Gretel is their second foray into the magic world of Grimm’s. \n“…twilight entertainment\, a place of dim light and mysterious figures emerging from the night. I almost envy the very young children in the audience; this will be something to linger in their dreams\, a sibilant whisper interrupting their future lives as adults. Whispering of magic in the dark.” – Alexander Winfield\, Animations Online \nThis is part of the Jellyfish Festival of Puppetry and Storytelling\, ten magical shows for children running throughout winter 2020 in Buckfastleigh
URL:https://dragonsanctuary.co.uk/event/clockwork-moth/
LOCATION:The Dragon Sanctuary\, 34 Bossell Road\, Buckfastleigh\, Devon\, TQ11 0DD\, United Kingdom
CATEGORIES:Festival of Puppetry & Storytelling
ATTACH;FMTTYPE=image/jpeg:https://dragonsanctuary.co.uk/wp-content/uploads/2019/10/Hansel-and-Gretel-cropped.jpg
ORGANIZER;CN="Leo Sofer":MAILTO:info@dragonsanctuary.co.uk
GEO:50.4803699;-3.7806423
X-APPLE-STRUCTURED-LOCATION;VALUE=URI;X-ADDRESS=The Dragon Sanctuary 34 Bossell Road Buckfastleigh Devon TQ11 0DD United Kingdom;X-APPLE-RADIUS=500;X-TITLE=34 Bossell Road:geo:-3.7806423,50.4803699
END:VEVENT
BEGIN:VEVENT
DTSTART;TZID=Europe/London:20200118T170000
DTEND;TZID=Europe/London:20200118T180000
DTSTAMP:20260424T121852
CREATED:20191029T115521Z
LAST-MODIFIED:20200118T162930Z
UID:10000214-1579366800-1579370400@dragonsanctuary.co.uk
SUMMARY:Hansel & Gretel
DESCRIPTION:Clockwork Moth present a shadow play for adults and children.  \nLose yourself in the woods and follow the scent of sugar in this classic tale by The Brother’s Grimm\, told through storytelling\, shadow-puppetry and live music. Look “behind the scenes” after the show! \nLength of show – 45 mins \nSuitable for all ages\, recommended 4+ \nLose yourself in the woods and follow the scent of sugar in this classic tale by The Brother’s Grimm\, told through storytelling\, shadow-puppetry and live music. \nThe Clockwork Moth have been making shadow-puppetry since 2006. Their work is mesmerising\, darkly funny and exquistely detailed\, inspired by the likes of Jan Pienkowski and Lotti Reineger. Hansel & Gretel is their second foray into the magic world of Grimm’s. \n“…twilight entertainment\, a place of dim light and mysterious figures emerging from the night. I almost envy the very young children in the audience; this will be something to linger in their dreams\, a sibilant whisper interrupting their future lives as adults. Whispering of magic in the dark.” – Alexander Winfield\, Animations Online \nThis is part of the Jellyfish Festival of Puppetry and Storytelling\, ten magical shows for children running throughout winter 2020 in Buckfastleigh
URL:https://dragonsanctuary.co.uk/event/hansel-gretel-a-shadow-play-for-adults-and-children/
LOCATION:The Dragon Sanctuary\, 34 Bossell Road\, Buckfastleigh\, Devon\, TQ11 0DD\, United Kingdom
CATEGORIES:Festival of Puppetry & Storytelling
ATTACH;FMTTYPE=image/jpeg:https://dragonsanctuary.co.uk/wp-content/uploads/2019/10/Hansel-and-Gretel.jpg
ORGANIZER;CN="Leo Sofer":MAILTO:info@dragonsanctuary.co.uk
GEO:50.4803699;-3.7806423
X-APPLE-STRUCTURED-LOCATION;VALUE=URI;X-ADDRESS=The Dragon Sanctuary 34 Bossell Road Buckfastleigh Devon TQ11 0DD United Kingdom;X-APPLE-RADIUS=500;X-TITLE=34 Bossell Road:geo:-3.7806423,50.4803699
END:VEVENT
BEGIN:VEVENT
DTSTART;TZID=Europe/London:20200111T170000
DTEND;TZID=Europe/London:20200111T180000
DTSTAMP:20260424T121852
CREATED:20191028T181233Z
LAST-MODIFIED:20200111T163920Z
UID:10000213-1578762000-1578765600@dragonsanctuary.co.uk
SUMMARY:Sold Out - The Magic Moor
DESCRIPTION:Legendary storytelling from Sara Hurley.  \nDartmoor stories are hiding in plain sight amongst its granite tors\, river valleys\, black bogs and fern filled hill sides. Tales of giants and piskies\, witches and dragons have been rumoured around these parts for centuries. Come and listen to some spellbinding stories from the land beneath our feet. \nSara is a warm\, vibrant storyteller with a wonderful ability to engage audiences of all ages. A skilled educational and interpretive storyteller working in heritage\, environmental and health settings. She performs in theatres\, at festivals\,\nlibraries and conferences nationally and internationally\, bringing stories to life. \nSuitable for ages 6+. Running time 55m. \nThis is part of the Jellyfish Festival of Puppetry and Storytelling\, ten magical shows for children running throughout winter 2020 in Buckfastleigh
URL:https://dragonsanctuary.co.uk/event/the-magic-moor/
LOCATION:The Dragon Sanctuary\, 34 Bossell Road\, Buckfastleigh\, Devon\, TQ11 0DD\, United Kingdom
CATEGORIES:Festival of Puppetry & Storytelling
ATTACH;FMTTYPE=image/jpeg:https://dragonsanctuary.co.uk/wp-content/uploads/2019/10/Sara-Hurley.jpg
ORGANIZER;CN="Leo Sofer":MAILTO:info@dragonsanctuary.co.uk
GEO:50.4803699;-3.7806423
X-APPLE-STRUCTURED-LOCATION;VALUE=URI;X-ADDRESS=The Dragon Sanctuary 34 Bossell Road Buckfastleigh Devon TQ11 0DD United Kingdom;X-APPLE-RADIUS=500;X-TITLE=34 Bossell Road:geo:-3.7806423,50.4803699
END:VEVENT
BEGIN:VEVENT
DTSTART;TZID=Europe/London:20200104T170000
DTEND;TZID=Europe/London:20200104T180000
DTSTAMP:20260424T121852
CREATED:20191028T174307Z
LAST-MODIFIED:20191203T175906Z
UID:10000212-1578157200-1578160800@dragonsanctuary.co.uk
SUMMARY:Adventures in Storyland
DESCRIPTION:Clive PiG  – aka Mister Storyfella   – is a globetrotting storyteller\, songster and potato juggler. Have you heard the one about the cockroach who married a mouse? \nGuffaw and raise an eyebrow to some of the most humorous and curious tales he has collected on recent travels around the world. \nGlobetrotting Clive PiG –aka Mister Storyfella – is an international storyteller and children’s author. Born in St.Albans\, Hertfordshire\, he attended the Muriel Green Nursery School. Nowadays he lives on Dartmoor in Devon\, UK.  \nHis dynamic delivery of traditional and original tales is theatrical and interactive\, combining music and song\, rhythm and rhyme and appeals to all ages\, making him a popular performer in the UK and beyond. \nThis travelling talesman has sung songs on TV in New York City\, shared stories in Zaatari refugee camp in Jordan\, and spouted poetry at Number 10 Downing Street.  \nRecent forays abroad include Brunei\, Ecuador\, Myanmar\, Oman and Uganda. \nClive is equally at home sharing stories by the fireside with you and your friends or performing on a stage for hundreds of eager ears.   \nSigned copies of his books Unicorn in the Playground\, and Jurassic Cove will be available to purchase @£5.99 each. \n“He doesn’t just tell the story\, he lives the story.” \n Emma Cordy\, Stage Manager\, Big Top\, Kidz Field\, Glastonbury Festival. \nwww.clivepig.co.uk \nThis is part of the Jellyfish Festival of Puppetry and Storytelling\, ten magical shows for children running throughout winter 2020 in Buckfastleigh
URL:https://dragonsanctuary.co.uk/event/adventures-in-storyland/
LOCATION:The Dragon Sanctuary\, 34 Bossell Road\, Buckfastleigh\, Devon\, TQ11 0DD\, United Kingdom
CATEGORIES:Festival of Puppetry & Storytelling
ATTACH;FMTTYPE=image/jpeg:https://dragonsanctuary.co.uk/wp-content/uploads/2019/10/Clive-Pig.jpg
ORGANIZER;CN="Leo Sofer":MAILTO:info@dragonsanctuary.co.uk
GEO:50.4803699;-3.7806423
X-APPLE-STRUCTURED-LOCATION;VALUE=URI;X-ADDRESS=The Dragon Sanctuary 34 Bossell Road Buckfastleigh Devon TQ11 0DD United Kingdom;X-APPLE-RADIUS=500;X-TITLE=34 Bossell Road:geo:-3.7806423,50.4803699
END:VEVENT
BEGIN:VEVENT
DTSTART;TZID=Europe/London:20191221T190000
DTEND;TZID=Europe/London:20191221T200000
DTSTAMP:20260424T121852
CREATED:20191028T172405Z
LAST-MODIFIED:20191203T180101Z
UID:10000211-1576954800-1576958400@dragonsanctuary.co.uk
SUMMARY:Jack and The Devil's Purse
DESCRIPTION:Puppetry for adults and older children by Angel Heart Theatre.  \nIn this darkly humorous and devilishly thought-provoking show the value of money and the nature of individual responsibility is played out with verve and comic bravado\, proving true the old saying\, ‘The Devil dances in empty pockets’. \n“I am the temptation… but I am not the sin.” So says the the Devil in Angel Heart Theatre’s re-telling of the traditional Scottish Travellers’ tale\, ‘Jack and the Devil’s Purse’. In it an idle young lad by the name of Jack lives alone with his aged mother and bemoans the tedium of a poor life. if only he were rich beyond belief… and so enters the Devil.  \nPerformed by James Richardson and Dave Oliver. Live music by Felicity Hollow. www.angelhearttheatre.com \nhttps://www.youtube.com/watch?v=diTeVJYiXa8 \nThis is part of the Jellyfish Festival of Puppetry and Storytelling\, ten magical shows for children running throughout winter 2020 in Buckfastleigh \nPLEASE NOTE: ONLY FOR AGES 10 YEARS AND OLDER. \nUnlike all of the other shows in the Jellyfish Festival this would NOT be suitable for younger children.
URL:https://dragonsanctuary.co.uk/event/jack-and-the-devils-purse/
LOCATION:The Dragon Sanctuary\, 34 Bossell Road\, Buckfastleigh\, Devon\, TQ11 0DD\, United Kingdom
CATEGORIES:Festival of Puppetry & Storytelling
ATTACH;FMTTYPE=image/jpeg:https://dragonsanctuary.co.uk/wp-content/uploads/2019/10/Jack-and-the-devils-purse.jpg
ORGANIZER;CN="Leo Sofer":MAILTO:info@dragonsanctuary.co.uk
GEO:50.4803699;-3.7806423
X-APPLE-STRUCTURED-LOCATION;VALUE=URI;X-ADDRESS=The Dragon Sanctuary 34 Bossell Road Buckfastleigh Devon TQ11 0DD United Kingdom;X-APPLE-RADIUS=500;X-TITLE=34 Bossell Road:geo:-3.7806423,50.4803699
END:VEVENT
BEGIN:VEVENT
DTSTART;TZID=Europe/London:20191214T170000
DTEND;TZID=Europe/London:20191214T180000
DTSTAMP:20260424T121852
CREATED:20191028T170733Z
LAST-MODIFIED:20191210T182031Z
UID:10000210-1576342800-1576346400@dragonsanctuary.co.uk
SUMMARY:Claire's Magical Hair
DESCRIPTION:Once there was a girl whose hair could not be cut. Her mother tried scissors\, which only broke! Her father tried an axe. Same thing! But why? Why is she the only girl with magical hair? It takes a meeting with a wise old woman and many more adventures before she discovers what her hair is really for. \nRunning time 40m. Ages 4+ \nStorytelling by Leo Sofer with music by Sundara Sofer. \nLeo started storytelling in 1989 and has given thousands of performances for children in schools all over England. He has created a website of stories for children\, Palace of Stories\, which features over 100 audio stories for children. \nSundara Sofer started playing music as a young child\, and plays accordion\, harmonium\, flutes and whistles. Her latest love is the Handpan\, a magical instrument that instantly transports its listeners into story land! Sundara and Leo have been playing music together since they met in 1999. \nIllustration by Sundara Sofer. \nThis is part of the Jellyfish Festival of Puppetry and Storytelling\, ten magical shows for children running throughout winter 2020 in Buckfastleigh
URL:https://dragonsanctuary.co.uk/event/tales-from-the-palace-of-stories-2/
LOCATION:The Dragon Sanctuary\, 34 Bossell Road\, Buckfastleigh\, Devon\, TQ11 0DD\, United Kingdom
CATEGORIES:Festival of Puppetry & Storytelling
ATTACH;FMTTYPE=image/jpeg:https://dragonsanctuary.co.uk/wp-content/uploads/2019/10/Claires-magical-hair.jpg
ORGANIZER;CN="Leo Sofer":MAILTO:info@dragonsanctuary.co.uk
GEO:50.4803699;-3.7806423
X-APPLE-STRUCTURED-LOCATION;VALUE=URI;X-ADDRESS=The Dragon Sanctuary 34 Bossell Road Buckfastleigh Devon TQ11 0DD United Kingdom;X-APPLE-RADIUS=500;X-TITLE=34 Bossell Road:geo:-3.7806423,50.4803699
END:VEVENT
BEGIN:VEVENT
DTSTART;TZID=Europe/London:20190127T170000
DTEND;TZID=Europe/London:20190127T170000
DTSTAMP:20260424T121852
CREATED:20181102T150451Z
LAST-MODIFIED:20190117T100224Z
UID:10000132-1548608400-1548608400@dragonsanctuary.co.uk
SUMMARY:Sold out! - Dartmoor Skies
DESCRIPTION:Astronomy Adventures\nSorry\, this event has now sold out! \nDartmoor Skies and The Clockwork Moth take you on a voyage through the Solar System. Take your seat in our spaceship (some imagination required) and prepare for launch! This is a family-friendly event and we encourage you to ask lots of space-themed questions.\nRunning time: 45m. Weather-dependent stargazing to follow.\nSuitable for ages 3+ \nThis show is part of the Jellyfish Festival of Puppetry and Storytelling\, which runs throughout December 2018 and January 2019.
URL:https://dragonsanctuary.co.uk/event/astronomy-adventures/
LOCATION:Devon
CATEGORIES:Festival of Puppetry & Storytelling,Performances
ATTACH;FMTTYPE=image/jpeg:https://dragonsanctuary.co.uk/wp-content/uploads/2018/11/dartmoor-skies.jpg
ORGANIZER;CN="Leo Sofer":MAILTO:info@dragonsanctuary.co.uk
END:VEVENT
BEGIN:VEVENT
DTSTART;TZID=Europe/London:20190120T190000
DTEND;TZID=Europe/London:20190120T190000
DTSTAMP:20260424T121852
CREATED:20181105T152847Z
LAST-MODIFIED:20190119T105636Z
UID:10000134-1548010800-1548010800@dragonsanctuary.co.uk
SUMMARY:Sold Out - Clockwork Moth
DESCRIPTION:This show has now sold out. \nHansel and Gretel\, A Shadow Play for Adults and Children\nSpellbinding\, exquisitely detailed and darkly funny\, this is shadow puppetry at its very best. Lose yourself in the woods and follow the scent of sugar in this classic tale by the Brothers Grimm.\nRunning time: 35m. Look “behind the scenes” after the show!\nSuitable for ages 4+ \nThis show is part of the Jellyfish Festival of Puppetry and Storytelling\, which runs throughout December 2018 and January 2019.
URL:https://dragonsanctuary.co.uk/event/hansel-and-gretel-a-shadow-play-for-adults-and-children-3/
LOCATION:Devon
CATEGORIES:Festival of Puppetry & Storytelling,Performances
ATTACH;FMTTYPE=image/jpeg:https://dragonsanctuary.co.uk/wp-content/uploads/2018/11/Hansel-and-Gretel-2.jpg
ORGANIZER;CN="Leo Sofer":MAILTO:info@dragonsanctuary.co.uk
END:VEVENT
BEGIN:VEVENT
DTSTART;TZID=Europe/London:20190120T170000
DTEND;TZID=Europe/London:20190120T170000
DTSTAMP:20260424T121852
CREATED:20181105T152747Z
LAST-MODIFIED:20190119T105846Z
UID:10000133-1548003600-1548003600@dragonsanctuary.co.uk
SUMMARY:Sold out - Clockwork Moth
DESCRIPTION:Sold out – Hansel and Gretel\, A Shadow Play for Adults and Children\nThis show has now sold out! \nThis show is part of the Jellyfish Festival of Puppetry and Storytelling\, which runs throughout December 2018 and January 2019.
URL:https://dragonsanctuary.co.uk/event/hansel-and-gretel-a-shadow-play-for-adults-and-children-2/
LOCATION:Devon
CATEGORIES:Festival of Puppetry & Storytelling,Performances
ATTACH;FMTTYPE=image/jpeg:https://dragonsanctuary.co.uk/wp-content/uploads/2018/11/Hansel-and-Gretel-1.jpg
ORGANIZER;CN="Leo Sofer":MAILTO:info@dragonsanctuary.co.uk
END:VEVENT
BEGIN:VEVENT
DTSTART;TZID=Europe/London:20190113T170000
DTEND;TZID=Europe/London:20190113T170000
DTSTAMP:20260424T121852
CREATED:20181102T145954Z
LAST-MODIFIED:20181205T162437Z
UID:10000131-1547398800-1547398800@dragonsanctuary.co.uk
SUMMARY:Katy Cawkwell
DESCRIPTION:The Boy and His Horse\nKaty tells the story of a wise black mare who helps a boy on a magical quest to the mysterious White Island\, searching for a secret cure.  Together they journey across land and sea\, but face the greatest challenge of all on their return home.\nRunning time: 45m\nSuitable for ages 7+ \nThis show is part of the Jellyfish Festival of Puppetry and Storytelling\, which runs throughout December 2018 and January 2019.
URL:https://dragonsanctuary.co.uk/event/the-boy-and-his-horse/
LOCATION:Devon
CATEGORIES:Festival of Puppetry & Storytelling,Performances
ATTACH;FMTTYPE=image/jpeg:https://dragonsanctuary.co.uk/wp-content/uploads/2018/11/BoyHorse.jpg
ORGANIZER;CN="Leo Sofer":MAILTO:info@dragonsanctuary.co.uk
END:VEVENT
BEGIN:VEVENT
DTSTART;TZID=Europe/London:20190106T170000
DTEND;TZID=Europe/London:20190106T170000
DTSTAMP:20260424T121852
CREATED:20181102T145620Z
LAST-MODIFIED:20181205T162432Z
UID:10000130-1546794000-1546794000@dragonsanctuary.co.uk
SUMMARY:Clive PiG
DESCRIPTION:The Woman Whose Nose Was A Sausage\nClive PiG – aka Mister Storyfella – is a globetrotting storyteller\, poet\, songster and potato juggler. This travelling talesman\, peddlar of poetry and thoroughly modern troubadour will be telling tall tales and silly songs to warm the heart through the winter months.\nRunning time: 45m.\nSuitable for ages 4+ \nThis show is part of the Jellyfish Festival of Puppetry and Storytelling\, which runs throughout December 2018 and January 2019.
URL:https://dragonsanctuary.co.uk/event/the-woman-whose-nose-was-a-sausage/
LOCATION:Devon
CATEGORIES:Festival of Puppetry & Storytelling,Performances
ATTACH;FMTTYPE=image/jpeg:https://dragonsanctuary.co.uk/wp-content/uploads/2018/11/clive-1-copy.jpg
ORGANIZER;CN="Leo Sofer":MAILTO:info@dragonsanctuary.co.uk
END:VEVENT
BEGIN:VEVENT
DTSTART;TZID=Europe/London:20181223T170000
DTEND;TZID=Europe/London:20181223T170000
DTSTAMP:20260424T121852
CREATED:20181102T145310Z
LAST-MODIFIED:20181205T162441Z
UID:10000129-1545584400-1545584400@dragonsanctuary.co.uk
SUMMARY:Leo and Sundara Sofer
DESCRIPTION:Tales from the Palace of Stories\nOne day the King’s gardener finds gold in the most unexpected place while tending the King’s garden. Should he tell the King or keep it to himself? Leo tells stories stories of puzzling questions and surprising answers\, while Sundara plays hauntingly beautiful flutes to accompany the story.\nRunning time: 40m\nSuitable for ages 4+ \nFor more about Leo and Sundara’s stories for children\, see the Palace of Stories website\, which features over 100 audio stories. \nThis show is part of the Jellyfish Festival of Puppetry and Storytelling\, which runs throughout December 2018 and January 2019.
URL:https://dragonsanctuary.co.uk/event/tales-from-the-palace-of-stories/
LOCATION:Devon
CATEGORIES:Festival of Puppetry & Storytelling,Performances
ATTACH;FMTTYPE=image/jpeg:https://dragonsanctuary.co.uk/wp-content/uploads/2018/11/Palace-FINAL-smaller.jpg
ORGANIZER;CN="Leo Sofer":MAILTO:info@dragonsanctuary.co.uk
END:VEVENT
BEGIN:VEVENT
DTSTART;TZID=Europe/London:20181216T170000
DTEND;TZID=Europe/London:20181216T170000
DTSTAMP:20260424T121852
CREATED:20181105T161635Z
LAST-MODIFIED:20181205T162449Z
UID:10000135-1544979600-1544979600@dragonsanctuary.co.uk
SUMMARY:Angel Heart Theatre
DESCRIPTION:Wolf! A delightful re-imagining of Aesop’s Fable\nJacob is a young boy who loves to be playful. When he is given the responsibility of being the village shepherd his wild imagination leads him astray…This tale about the power of our words is brought to life with storytelling\, live music and the chance to join in.\nRunning time: 40m.\nSuitable for ages 3+ \nThis show is part of the Jellyfish Festival of Puppetry and Storytelling\, which runs throughout December 2018 and January 2019.
URL:https://dragonsanctuary.co.uk/event/wolf-a-delightful-re-imagining-of-aesops-fable/
LOCATION:Devon
CATEGORIES:Festival of Puppetry & Storytelling,Performances
ATTACH;FMTTYPE=image/jpeg:https://dragonsanctuary.co.uk/wp-content/uploads/2018/11/BOY-WHO-CRIED-WOLF-publicity-day-1.jpg
ORGANIZER;CN="Leo Sofer":MAILTO:info@dragonsanctuary.co.uk
END:VEVENT
BEGIN:VEVENT
DTSTART;TZID=Europe/London:20181209T170000
DTEND;TZID=Europe/London:20181209T170000
DTSTAMP:20260424T121852
CREATED:20181030T125626Z
LAST-MODIFIED:20181205T162454Z
UID:10000128-1544374800-1544374800@dragonsanctuary.co.uk
SUMMARY:Isabella's Story Bicycle
DESCRIPTION:Isabella is a pedal pushing storyteller who loves to share stories from her incredible journeys around the world. ‘How to be Brave’ tells two tales of remarkable children she’s met along the way – were they brave or foolish? Either way\, expect delightful storytelling\, gorgeous illustrations and unexpected wonders.\nRunning time: 45 mins.\nSuitable for ages 4+ \nThis show is part of the Jellyfish Festival of Puppetry and Storytelling\, which runs throughout December 2018 and January 2019.
URL:https://dragonsanctuary.co.uk/event/isabellas-story-bicycle/
LOCATION:Devon
CATEGORIES:Festival of Puppetry & Storytelling,Performances
ATTACH;FMTTYPE=image/jpeg:https://dragonsanctuary.co.uk/wp-content/uploads/2018/10/Isabella.med_..jpg
ORGANIZER;CN="Leo Sofer":MAILTO:info@dragonsanctuary.co.uk
END:VEVENT
END:VCALENDAR