BEGIN:VCALENDAR
VERSION:2.0
PRODID:-//The Dragon Sanctuary - ECPv6.15.20//NONSGML v1.0//EN
CALSCALE:GREGORIAN
METHOD:PUBLISH
X-ORIGINAL-URL:https://dragonsanctuary.co.uk
X-WR-CALDESC:Events for The Dragon Sanctuary
REFRESH-INTERVAL;VALUE=DURATION:PT1H
X-Robots-Tag:noindex
X-PUBLISHED-TTL:PT1H
BEGIN:VTIMEZONE
TZID:Europe/London
BEGIN:DAYLIGHT
TZOFFSETFROM:+0000
TZOFFSETTO:+0100
TZNAME:BST
DTSTART:20220327T010000
END:DAYLIGHT
BEGIN:STANDARD
TZOFFSETFROM:+0100
TZOFFSETTO:+0000
TZNAME:GMT
DTSTART:20221030T010000
END:STANDARD
BEGIN:DAYLIGHT
TZOFFSETFROM:+0000
TZOFFSETTO:+0100
TZNAME:BST
DTSTART:20230326T010000
END:DAYLIGHT
BEGIN:STANDARD
TZOFFSETFROM:+0100
TZOFFSETTO:+0000
TZNAME:GMT
DTSTART:20231029T010000
END:STANDARD
BEGIN:DAYLIGHT
TZOFFSETFROM:+0000
TZOFFSETTO:+0100
TZNAME:BST
DTSTART:20240331T010000
END:DAYLIGHT
BEGIN:STANDARD
TZOFFSETFROM:+0100
TZOFFSETTO:+0000
TZNAME:GMT
DTSTART:20241027T010000
END:STANDARD
END:VTIMEZONE
BEGIN:VEVENT
DTSTART;TZID=Europe/London:20231213T193000
DTEND;TZID=Europe/London:20231213T210000
DTSTAMP:20260426T014141
CREATED:20231030T143206Z
LAST-MODIFIED:20231031T132359Z
UID:10000353-1702495800-1702501200@dragonsanctuary.co.uk
SUMMARY:Singing Sanctuary
DESCRIPTION:With Leo and Sundara \nAccompanied by harmonium and guitar\, we’ll sing devotional songs in English. These original songs are based on prayers and sayings from spiritual traditions around the world. \nLeo and Sundara have been leading singing events together since 2003. Sundara plays the harmonium and Leo plays the guitar to accompany these songs. Having two instruments present enables people to sing freely and to relax into the experience\, supported by the music. \nNo prior experience is necessary. For more information about these Singing Sanctuary evenings\, see this page.  \nDoors open at 7pm. Come early for a cup of tea and a chat if you like. No need to book in advance.
URL:https://dragonsanctuary.co.uk/event/singing-sanctuary/
ATTACH;FMTTYPE=image/jpeg:https://dragonsanctuary.co.uk/wp-content/uploads/2023/07/5.jpg
ORGANIZER;CN="Leo Sofer":MAILTO:info@dragonsanctuary.co.uk
END:VEVENT
BEGIN:VEVENT
DTSTART;TZID=Europe/London:20231216T193000
DTEND;TZID=Europe/London:20231216T210000
DTSTAMP:20260426T014141
CREATED:20231030T145140Z
LAST-MODIFIED:20231211T130151Z
UID:10000356-1702755000-1702760400@dragonsanctuary.co.uk
SUMMARY:Christmas Carols and Taize Singing
DESCRIPTION:We’ll sing some of our favourite Christmas Carols\, in 3 part harmony. We’ll also sing some winter-themed Taize songs (Taize is a Christian monastery in the South of France famous for its beautiful songs.) \nWe’ll have a time for silent prayer also. We hope to celebrate the spirit of Christmas without dogma. For more about our Taize events\, see this page. \nLeo and Sundara started leading singing events in 2003\, at the Findhorn Community in Scotland. These events are open to people of all faiths and none. \nDoors open at 7pm. Come early for a cup of tea and a chat if you like.
URL:https://dragonsanctuary.co.uk/event/christmas-carols/
ATTACH;FMTTYPE=image/jpeg:https://dragonsanctuary.co.uk/wp-content/uploads/2022/12/Taize-6.jpg
ORGANIZER;CN="Leo Sofer":MAILTO:info@dragonsanctuary.co.uk
END:VEVENT
BEGIN:VEVENT
DTSTART;TZID=Europe/London:20231221T193000
DTEND;TZID=Europe/London:20231221T210000
DTSTAMP:20260426T014141
CREATED:20231030T141851Z
LAST-MODIFIED:20231030T144351Z
UID:10000354-1703187000-1703192400@dragonsanctuary.co.uk
SUMMARY:Kirtan Singing
DESCRIPTION:With Leo and Sundara \nAccompanied by harmonium and guitar\, we will sing Indian devotional chants based on simple mantras. These “sung prayers” invoke the qualities of Indian deities such as love\, creativity\, courage and wisdom. These qualities are all present within us and can be brought more fully into our lives by singing together in this way. \nLeo and Sundara have been leading singing events together since 2003. Sundara plays the harmonium and Leo plays the guitar to accompany these songs. Having two instruments present enables people to sing freely and to relax into the experience\, supported by the music. \nNo prior experience is necessary. For more information about these Kirtan evenings\, see this page. \nDoors open at 7pm. Come early for a cup of tea and a chat if you like. No need to book in advance.
URL:https://dragonsanctuary.co.uk/event/kirtan-singing-23/
ATTACH;FMTTYPE=image/jpeg:https://dragonsanctuary.co.uk/wp-content/uploads/2022/06/Kirtan.jpg
ORGANIZER;CN="Leo Sofer":MAILTO:info@dragonsanctuary.co.uk
END:VEVENT
END:VCALENDAR