BEGIN:VCALENDAR
VERSION:2.0
PRODID:-//The Dragon Sanctuary - ECPv6.15.20//NONSGML v1.0//EN
CALSCALE:GREGORIAN
METHOD:PUBLISH
X-ORIGINAL-URL:https://dragonsanctuary.co.uk
X-WR-CALDESC:Events for The Dragon Sanctuary
REFRESH-INTERVAL;VALUE=DURATION:PT1H
X-Robots-Tag:noindex
X-PUBLISHED-TTL:PT1H
BEGIN:VTIMEZONE
TZID:Europe/London
BEGIN:DAYLIGHT
TZOFFSETFROM:+0000
TZOFFSETTO:+0100
TZNAME:BST
DTSTART:20230326T010000
END:DAYLIGHT
BEGIN:STANDARD
TZOFFSETFROM:+0100
TZOFFSETTO:+0000
TZNAME:GMT
DTSTART:20231029T010000
END:STANDARD
BEGIN:DAYLIGHT
TZOFFSETFROM:+0000
TZOFFSETTO:+0100
TZNAME:BST
DTSTART:20240331T010000
END:DAYLIGHT
BEGIN:STANDARD
TZOFFSETFROM:+0100
TZOFFSETTO:+0000
TZNAME:GMT
DTSTART:20241027T010000
END:STANDARD
BEGIN:DAYLIGHT
TZOFFSETFROM:+0000
TZOFFSETTO:+0100
TZNAME:BST
DTSTART:20250330T010000
END:DAYLIGHT
BEGIN:STANDARD
TZOFFSETFROM:+0100
TZOFFSETTO:+0000
TZNAME:GMT
DTSTART:20251026T010000
END:STANDARD
END:VTIMEZONE
BEGIN:VEVENT
DTSTART;TZID=Europe/London:20240106T190000
DTEND;TZID=Europe/London:20240106T213000
DTSTAMP:20260426T000400
CREATED:20231101T121609Z
LAST-MODIFIED:20231211T130748Z
UID:10000362-1704567600-1704576600@dragonsanctuary.co.uk
SUMMARY:Film Screening - Sounds into Silence
DESCRIPTION:Leo and Sundara Sofer will be offering a special screening of the feature length documentary “Mantra – Sounds into Silence”. \nLeo and Sundara lead a monthly Kirtan (Indian mantra singing) at the Dragon Sanctuary\, and this film charts the history and growth of Kirtans in the West. It focuses on the everyday people who are finding healing and inner peace by singing mantras together\, and also features the musicians who are the focus of this new music-based movement. It’s a film about spirituality not religion\, about people reconnecting with their true selves and finding meaning in their lives through singing together. ​ \nOnline booking advised. Doors open at 6.30pm\, come early for a cup of tea and a chat if you like.  \nAfter the film\, Leo and Sundara will lead a couple of songs. \nAll profits from this event will go to British Red Cross.
URL:https://dragonsanctuary.co.uk/event/film-screening-sounds-into-silence/
ATTACH;FMTTYPE=image/jpeg:https://dragonsanctuary.co.uk/wp-content/uploads/2023/01/4.jpg
ORGANIZER;CN="Leo Sofer":MAILTO:info@dragonsanctuary.co.uk
END:VEVENT
BEGIN:VEVENT
DTSTART;TZID=Europe/London:20240113T193000
DTEND;TZID=Europe/London:20240113T210000
DTSTAMP:20260426T000400
CREATED:20231031T132144Z
LAST-MODIFIED:20231031T133034Z
UID:10000357-1705174200-1705179600@dragonsanctuary.co.uk
SUMMARY:Singing Sanctuary
DESCRIPTION:With Leo and Sundara \nAccompanied by harmonium and guitar\, we’ll sing devotional songs in English. These original songs are based on prayers and sayings from spiritual traditions around the world. \nLeo and Sundara have been leading singing events together since 2003. Sundara plays the harmonium and Leo plays the guitar to accompany these songs. Having two instruments present enables people to sing freely and to relax into the experience\, supported by the music. \nNo prior experience is necessary. For more information about these Singing Sanctuary evenings\, see this page.  \nDoors open at 7pm. Come early for a cup of tea and a chat if you like. No need to book in advance.
URL:https://dragonsanctuary.co.uk/event/singing-sanctuary-23/
ATTACH;FMTTYPE=image/jpeg:https://dragonsanctuary.co.uk/wp-content/uploads/2023/10/6.jpg
ORGANIZER;CN="Leo Sofer":MAILTO:info@dragonsanctuary.co.uk
END:VEVENT
BEGIN:VEVENT
DTSTART;TZID=Europe/London:20240127T193000
DTEND;TZID=Europe/London:20240127T210000
DTSTAMP:20260426T000400
CREATED:20231031T134158Z
LAST-MODIFIED:20231031T135106Z
UID:10000359-1706383800-1706389200@dragonsanctuary.co.uk
SUMMARY:Kirtan Singing
DESCRIPTION:With Leo and Sundara \nAccompanied by harmonium and guitar\, we will sing Indian devotional chants based on simple mantras. These “sung prayers” invoke the qualities of Indian deities such as love\, creativity\, courage and wisdom. These qualities are all present within us and can be brought more fully into our lives by singing together in this way. \nLeo and Sundara have been leading singing events together since 2003. Sundara plays the harmonium and Leo plays the guitar to accompany these songs. Having two instruments present enables people to sing freely and to relax into the experience\, supported by the music. \nNo prior experience is necessary. For more information about these Kirtan evenings\, see this page. \nDoors open at 7pm. Come early for a cup of tea and a chat if you like. No need to book in advance.
URL:https://dragonsanctuary.co.uk/event/kirtan-singing-24/
ATTACH;FMTTYPE=image/png:https://dragonsanctuary.co.uk/wp-content/uploads/2022/10/image_2022-10-29_183006848.png
ORGANIZER;CN="Leo Sofer":MAILTO:info@dragonsanctuary.co.uk
END:VEVENT
END:VCALENDAR