BEGIN:VCALENDAR
VERSION:2.0
PRODID:-//The Dragon Sanctuary - ECPv6.15.20//NONSGML v1.0//EN
CALSCALE:GREGORIAN
METHOD:PUBLISH
X-ORIGINAL-URL:https://dragonsanctuary.co.uk
X-WR-CALDESC:Events for The Dragon Sanctuary
REFRESH-INTERVAL;VALUE=DURATION:PT1H
X-Robots-Tag:noindex
X-PUBLISHED-TTL:PT1H
BEGIN:VTIMEZONE
TZID:Europe/London
BEGIN:DAYLIGHT
TZOFFSETFROM:+0000
TZOFFSETTO:+0100
TZNAME:BST
DTSTART:20230326T010000
END:DAYLIGHT
BEGIN:STANDARD
TZOFFSETFROM:+0100
TZOFFSETTO:+0000
TZNAME:GMT
DTSTART:20231029T010000
END:STANDARD
BEGIN:DAYLIGHT
TZOFFSETFROM:+0000
TZOFFSETTO:+0100
TZNAME:BST
DTSTART:20240331T010000
END:DAYLIGHT
BEGIN:STANDARD
TZOFFSETFROM:+0100
TZOFFSETTO:+0000
TZNAME:GMT
DTSTART:20241027T010000
END:STANDARD
BEGIN:DAYLIGHT
TZOFFSETFROM:+0000
TZOFFSETTO:+0100
TZNAME:BST
DTSTART:20250330T010000
END:DAYLIGHT
BEGIN:STANDARD
TZOFFSETFROM:+0100
TZOFFSETTO:+0000
TZNAME:GMT
DTSTART:20251026T010000
END:STANDARD
END:VTIMEZONE
BEGIN:VEVENT
DTSTART;TZID=Europe/London:20240502T193000
DTEND;TZID=Europe/London:20240502T210000
DTSTAMP:20260425T180920
CREATED:20240223T121248Z
LAST-MODIFIED:20240223T121248Z
UID:10000376-1714678200-1714683600@dragonsanctuary.co.uk
SUMMARY:Singing Sanctuary
DESCRIPTION:With Leo and Sundara \nAccompanied by harmonium and guitar\, we’ll sing devotional songs in English. These original songs are based on prayers and sayings from spiritual traditions around the world. \nLeo and Sundara have been leading singing events together since 2003. Sundara plays the harmonium and Leo plays the guitar to accompany these songs. Having two instruments present enables people to sing freely and to relax into the experience\, supported by the music. \nNo prior experience is necessary. For more information about these Singing Sanctuary evenings\, see this page.  \nDoors open at 7pm. Come early for a cup of tea and a chat if you like. No need to book in advance.
URL:https://dragonsanctuary.co.uk/event/singing-sanctuary-26/
ATTACH;FMTTYPE=image/jpeg:https://dragonsanctuary.co.uk/wp-content/uploads/2024/02/9.jpg
ORGANIZER;CN="Leo Sofer":MAILTO:info@dragonsanctuary.co.uk
END:VEVENT
BEGIN:VEVENT
DTSTART;TZID=Europe/London:20240504T190000
DTEND;TZID=Europe/London:20240504T213000
DTSTAMP:20260425T180920
CREATED:20240331T172737Z
LAST-MODIFIED:20240423T170250Z
UID:10000382-1714849200-1714858200@dragonsanctuary.co.uk
SUMMARY:True Storytelling
DESCRIPTION:An evening of participatory storytelling! \nDo you have an amazing story to tell? \n\nSomething miraculous that left you in awe\nA story that reminded you of what really matters in life\nThe challenges you faced\, and the lessons you learned\n\nWe’ll sit in a circle and tell our stories. True Storytelling is not about performance\, it’s about sharing our stories in community\, for inspiration\, healing and mutual understanding. It’s also fine to just sit and listen! \n“It’s a pleasure and a privilege to be able to listen\, really listen\, to other people telling about precious moments in their lives. And to have the chance to tell about your own experiences and memories (only if you want to)\, with others listening to you too. It’s inspiring and entertaining and humbling\, all at once.” Previous participant. \nThe evening will be led by Leo Sofer\, an experienced storyteller\, who has also run many of these evenings. Leo will begin the evening with a true story of his own and then open the circle for more. We’ll aim to keep each story to 10 minutes\, and there will be a short period for reflections and questions after each story. We’ll have a tea break also. For more information about these True Storytelling events see this page. \nDoors open at 6.30pm\, come early for a cup of tea and a chat if you like.
URL:https://dragonsanctuary.co.uk/event/true-storytelling-3/
ATTACH;FMTTYPE=image/jpeg:https://dragonsanctuary.co.uk/wp-content/uploads/2024/01/Jewel-in-the-Dust.jpg
ORGANIZER;CN="Leo Sofer":MAILTO:info@dragonsanctuary.co.uk
END:VEVENT
BEGIN:VEVENT
DTSTART;TZID=Europe/London:20240511T193000
DTEND;TZID=Europe/London:20240511T210000
DTSTAMP:20260425T180920
CREATED:20240223T122150Z
LAST-MODIFIED:20240223T122352Z
UID:10000378-1715455800-1715461200@dragonsanctuary.co.uk
SUMMARY:Kirtan Singing
DESCRIPTION:With Leo and Sundara \nAccompanied by harmonium and guitar\, we will sing Indian devotional chants based on simple mantras. These “sung prayers” invoke the qualities of Indian deities such as love\, creativity\, courage and wisdom. These qualities are all present within us and can be brought more fully into our lives by singing together in this way. \nLeo and Sundara have been leading singing events together since 2003. Sundara plays the harmonium and Leo plays the guitar to accompany these songs. Having two instruments present enables people to sing freely and to relax into the experience\, supported by the music. \nNo prior experience is necessary. For more information about these Kirtan evenings\, see this page. \nDoors open at 7pm. Come early for a cup of tea and a chat if you like. No need to book in advance.
URL:https://dragonsanctuary.co.uk/event/kirtan-singing-28/
ATTACH;FMTTYPE=image/jpeg:https://dragonsanctuary.co.uk/wp-content/uploads/2023/07/3.jpg
ORGANIZER;CN="Leo Sofer":MAILTO:info@dragonsanctuary.co.uk
END:VEVENT
BEGIN:VEVENT
DTSTART;TZID=Europe/London:20240519T193000
DTEND;TZID=Europe/London:20240519T210000
DTSTAMP:20260425T180920
CREATED:20231101T113224Z
LAST-MODIFIED:20240223T123118Z
UID:10000361-1716147000-1716152400@dragonsanctuary.co.uk
SUMMARY:Harmonic Temple
DESCRIPTION:The Harmonic Temple songs\, created by Nickomo Clarke\, are sung in 3 or 4 part harmony and are based on prayers and sayings from spiritual traditions around the world. \nNickomo was inspired by the songs of Taize and wanted to create songs that were similarly easy to learn and uplifting to sing but drawn from all faiths. Some of his compositions are awe-inspiringly beautiful. \nThe songs are learned by ear (no sheet music) and then\, when we are confident of our part\, we can move around the room\, experiencing the harmonies all around us\, literally creating a Harmonic Temple with our voices. \nLeo and Sundara began leading Harmonic Temple songs in 2003\, while living at the Findhorn Community in Scotland. For more about the Harmonic Temple\, see this page. \nNo prior experience is required. Come early for a cup of tea if you like\, doors open at 7pm for a 7.30pm start.
URL:https://dragonsanctuary.co.uk/event/harmonic-temple-2/
ATTACH;FMTTYPE=image/jpeg:https://dragonsanctuary.co.uk/wp-content/uploads/2023/11/5-purple-colour-balanced.jpg
ORGANIZER;CN="Leo Sofer":MAILTO:info@dragonsanctuary.co.uk
END:VEVENT
END:VCALENDAR