BEGIN:VCALENDAR
VERSION:2.0
PRODID:-//The Dragon Sanctuary - ECPv6.15.20//NONSGML v1.0//EN
CALSCALE:GREGORIAN
METHOD:PUBLISH
X-WR-CALNAME:The Dragon Sanctuary
X-ORIGINAL-URL:https://dragonsanctuary.co.uk
X-WR-CALDESC:Events for The Dragon Sanctuary
REFRESH-INTERVAL;VALUE=DURATION:PT1H
X-Robots-Tag:noindex
X-PUBLISHED-TTL:PT1H
BEGIN:VTIMEZONE
TZID:Europe/London
BEGIN:DAYLIGHT
TZOFFSETFROM:+0000
TZOFFSETTO:+0100
TZNAME:BST
DTSTART:20230326T010000
END:DAYLIGHT
BEGIN:STANDARD
TZOFFSETFROM:+0100
TZOFFSETTO:+0000
TZNAME:GMT
DTSTART:20231029T010000
END:STANDARD
BEGIN:DAYLIGHT
TZOFFSETFROM:+0000
TZOFFSETTO:+0100
TZNAME:BST
DTSTART:20240331T010000
END:DAYLIGHT
BEGIN:STANDARD
TZOFFSETFROM:+0100
TZOFFSETTO:+0000
TZNAME:GMT
DTSTART:20241027T010000
END:STANDARD
BEGIN:DAYLIGHT
TZOFFSETFROM:+0000
TZOFFSETTO:+0100
TZNAME:BST
DTSTART:20250330T010000
END:DAYLIGHT
BEGIN:STANDARD
TZOFFSETFROM:+0100
TZOFFSETTO:+0000
TZNAME:GMT
DTSTART:20251026T010000
END:STANDARD
END:VTIMEZONE
BEGIN:VEVENT
DTSTART;TZID=Europe/London:20240613T193000
DTEND;TZID=Europe/London:20240613T210000
DTSTAMP:20260425T164559
CREATED:20240331T165550Z
LAST-MODIFIED:20240331T165550Z
UID:10000379-1718307000-1718312400@dragonsanctuary.co.uk
SUMMARY:Singing Sanctuary
DESCRIPTION:With Leo and Sundara \nAccompanied by harmonium and guitar\, we’ll sing devotional songs in English. These original songs are based on prayers and sayings from spiritual traditions around the world. \nLeo and Sundara have been leading singing events together since 2003. Sundara plays the harmonium and Leo plays the guitar to accompany these songs. Having two instruments present enables people to sing freely and to relax into the experience\, supported by the music. \nNo prior experience is necessary. For more information about these Singing Sanctuary evenings\, see this page.  \nDoors open at 7pm. Come early for a cup of tea and a chat if you like. No need to book in advance.
URL:https://dragonsanctuary.co.uk/event/singing-sanctuary-27/
ATTACH;FMTTYPE=image/jpeg:https://dragonsanctuary.co.uk/wp-content/uploads/2024/03/10.jpg
ORGANIZER;CN="Leo Sofer":MAILTO:info@dragonsanctuary.co.uk
END:VEVENT
BEGIN:VEVENT
DTSTART;TZID=Europe/London:20240620T193000
DTEND;TZID=Europe/London:20240620T210000
DTSTAMP:20260425T164559
CREATED:20240331T170237Z
LAST-MODIFIED:20240331T170237Z
UID:10000380-1718911800-1718917200@dragonsanctuary.co.uk
SUMMARY:Kirtan Singing
DESCRIPTION:With Leo and Sundara \nAccompanied by harmonium and guitar\, we will sing Indian devotional chants based on simple mantras. These “sung prayers” invoke the qualities of Indian deities such as love\, creativity\, courage and wisdom. These qualities are all present within us and can be brought more fully into our lives by singing together in this way. \nLeo and Sundara have been leading singing events together since 2003. Sundara plays the harmonium and Leo plays the guitar to accompany these songs. Having two instruments present enables people to sing freely and to relax into the experience\, supported by the music. \nNo prior experience is necessary. For more information about these Kirtan evenings\, see this page. \nDoors open at 7pm. Come early for a cup of tea and a chat if you like. No need to book in advance.
URL:https://dragonsanctuary.co.uk/event/kirtan-singing-29/
ATTACH;FMTTYPE=image/jpeg:https://dragonsanctuary.co.uk/wp-content/uploads/2023/01/4.jpg
ORGANIZER;CN="Leo Sofer":MAILTO:info@dragonsanctuary.co.uk
END:VEVENT
BEGIN:VEVENT
DTSTART;TZID=Europe/London:20240629T193000
DTEND;TZID=Europe/London:20240629T213000
DTSTAMP:20260425T164559
CREATED:20240417T105253Z
LAST-MODIFIED:20240629T074345Z
UID:10000383-1719689400-1719696600@dragonsanctuary.co.uk
SUMMARY:Weaving Gold from Starlight
DESCRIPTION:*** This event has now sold out.***If you would like to join the waiting list please email leo@sofer.com or text 07508 639216.There is another performance of this show on Saturday 6th July in Plymouth. See here for more details. \nStories of the Journey Home presentsStorytelling for the Spiritual Journey \nWeaving Gold from Starlight features a farmer who discovers treasure beyond price buried in one of his fields; an old man who finds a chest of gold coins\, only to find that his head is on each one; and a wealthy heiress who leaves everything behind to marry for love\, only to find a deeper love calling her into the wild and stormy night. \nStorytelling has the power to draw us into deep soul-enquiry. Using symbol and metaphor it encourages us to dream big. This story will explore the theme of love. \nWho is the lover here?Whenever we feel empty of love\, we are probably asking the wrong question. Love is our essence\, and at core we are loved unconditionally. But this truth is usually covered over by all the strategies that we have for “getting love”. \nLove is not everything we think it isLove is not only to be found “out there”. The deepest love is within\, and is a wellspring that never ends. Accessing this love\, and finding out how to share it with the world is one of the main themes of this story. \nFeedback from recent performancesI was blown away by the story\, it was magical. I was spellbound\, and feel myself in this moment completely transformed by it. The words and music wove in so beautifully together\, and I was transported somewhere else…. and it was very healing. I left feeling so inspired and uplifted. The evening reconnected me with that impulse to surrender and let spirit carry me.Neesa Copple \nLeo Sofer has been telling stories since 1989. Sundara plays handpan to accompany the story. They have been setting stories to music together for over 20 years. For more information about their work\, see here. \nThis show is intended for an adult audience. \nThere will be another performance of this show on Saturday 6th July in Plymouth. See here for info and to book tickets.
URL:https://dragonsanctuary.co.uk/event/weaving-gold-from-starlight/
ATTACH;FMTTYPE=image/jpeg:https://dragonsanctuary.co.uk/wp-content/uploads/2024/04/WG-for-SJH.jpg
ORGANIZER;CN="Leo Sofer":MAILTO:info@dragonsanctuary.co.uk
END:VEVENT
BEGIN:VEVENT
DTSTART;TZID=Europe/London:20240630T193000
DTEND;TZID=Europe/London:20240630T210000
DTSTAMP:20260425T164559
CREATED:20240331T171433Z
LAST-MODIFIED:20240331T171433Z
UID:10000381-1719775800-1719781200@dragonsanctuary.co.uk
SUMMARY:Taizé Singing
DESCRIPTION:The songs of Taizé are easy to learn and uplifting to sing. \nTaizé is a Christian monastery in the South of France famous for its beautiful songs. We’ll sing them in three or four part harmony\, in Latin as well as various European languages. We’ll have a time for silent prayer also. We’ll keep teaching to a minimum and sing for the pure enjoyment of the devotional atmosphere that these songs evoke. \nLeo and Sundara started leading Taizé singing in 2003\, at the Findhorn Community in Scotland. These events are open to people of all faiths and none. No prior experience is necessary. For more information about these Taizé evenings\, see this page. \nDoors open at 7pm. Come early for a cup of tea and a chat if you like.
URL:https://dragonsanctuary.co.uk/event/taize-singing-18/
ATTACH;FMTTYPE=image/jpeg:https://dragonsanctuary.co.uk/wp-content/uploads/2022/10/Taize-1-1.jpg
ORGANIZER;CN="Leo Sofer":MAILTO:info@dragonsanctuary.co.uk
END:VEVENT
END:VCALENDAR