BEGIN:VCALENDAR
VERSION:2.0
PRODID:-//The Dragon Sanctuary - ECPv6.15.20//NONSGML v1.0//EN
CALSCALE:GREGORIAN
METHOD:PUBLISH
X-WR-CALNAME:The Dragon Sanctuary
X-ORIGINAL-URL:https://dragonsanctuary.co.uk
X-WR-CALDESC:Events for The Dragon Sanctuary
REFRESH-INTERVAL;VALUE=DURATION:PT1H
X-Robots-Tag:noindex
X-PUBLISHED-TTL:PT1H
BEGIN:VTIMEZONE
TZID:Europe/London
BEGIN:DAYLIGHT
TZOFFSETFROM:+0000
TZOFFSETTO:+0100
TZNAME:BST
DTSTART:20230326T010000
END:DAYLIGHT
BEGIN:STANDARD
TZOFFSETFROM:+0100
TZOFFSETTO:+0000
TZNAME:GMT
DTSTART:20231029T010000
END:STANDARD
BEGIN:DAYLIGHT
TZOFFSETFROM:+0000
TZOFFSETTO:+0100
TZNAME:BST
DTSTART:20240331T010000
END:DAYLIGHT
BEGIN:STANDARD
TZOFFSETFROM:+0100
TZOFFSETTO:+0000
TZNAME:GMT
DTSTART:20241027T010000
END:STANDARD
BEGIN:DAYLIGHT
TZOFFSETFROM:+0000
TZOFFSETTO:+0100
TZNAME:BST
DTSTART:20250330T010000
END:DAYLIGHT
BEGIN:STANDARD
TZOFFSETFROM:+0100
TZOFFSETTO:+0000
TZNAME:GMT
DTSTART:20251026T010000
END:STANDARD
END:VTIMEZONE
BEGIN:VEVENT
DTSTART;TZID=Europe/London:20241214T193000
DTEND;TZID=Europe/London:20241214T213000
DTSTAMP:20260424T212535
CREATED:20241203T180500Z
LAST-MODIFIED:20241205T094458Z
UID:10000397-1734204600-1734211800@dragonsanctuary.co.uk
SUMMARY:German Christmas Carols
DESCRIPTION:With Leo and Sundara \nWe’ll be singing some of our favourite German carols\, in two part harmony.  \nGerman Christmas carols can be very tender and lyrical\, and lovely to sing. They often focus on the winter landscape – the snow\, the woods\, the animals – and the magical atmosphere of Christmastime.  \nThe event will be led in English\, so you don’t need to understand German to come along. We won’t be translating or pronouncing the songs\, however\, so although some prior experience of German is not essential\, it might enhance your experience! \nPlease bring along some German Christmas food or drink to share: homemade or shop-bought is fine.  \nDoors open at 6.45pm. Do come early for glühwein and German Christmas biscuits! \n7.30pm to 9.15pm\, with a tea break
URL:https://dragonsanctuary.co.uk/event/german-christmas-carols/
ATTACH;FMTTYPE=image/jpeg:https://dragonsanctuary.co.uk/wp-content/uploads/2024/12/St-Nickaus.jpg
ORGANIZER;CN="Leo Sofer":MAILTO:info@dragonsanctuary.co.uk
END:VEVENT
BEGIN:VEVENT
DTSTART;TZID=Europe/London:20241222T193000
DTEND;TZID=Europe/London:20241222T210000
DTSTAMP:20260424T212535
CREATED:20241114T080827Z
LAST-MODIFIED:20241114T080827Z
UID:10000396-1734895800-1734901200@dragonsanctuary.co.uk
SUMMARY:Christmas Carols and Taize Singing
DESCRIPTION:We’ll sing some of our favourite Christmas Carols\, in 3 part harmony. We’ll also sing some winter-themed Taize songs (Taize is a Christian monastery in the South of France famous for its beautiful songs. For more information\, see this page). We’ll have a time for silent prayer also. \nLeo and Sundara started leading singing events in 2003\, at the Findhorn Community in Scotland. These events are open to people of all faiths and none. \nDoors open at 7pm. Come early for a cup of tea and a chat if you like.
URL:https://dragonsanctuary.co.uk/event/christmas-carols-and-taize-singing/
ATTACH;FMTTYPE=image/jpeg:https://dragonsanctuary.co.uk/wp-content/uploads/2024/11/Taize-6-for-carols.jpg
ORGANIZER;CN="Leo Sofer":MAILTO:info@dragonsanctuary.co.uk
END:VEVENT
END:VCALENDAR