BEGIN:VCALENDAR
VERSION:2.0
PRODID:-//The Dragon Sanctuary - ECPv6.15.20//NONSGML v1.0//EN
CALSCALE:GREGORIAN
METHOD:PUBLISH
X-WR-CALNAME:The Dragon Sanctuary
X-ORIGINAL-URL:https://dragonsanctuary.co.uk
X-WR-CALDESC:Events for The Dragon Sanctuary
REFRESH-INTERVAL;VALUE=DURATION:PT1H
X-Robots-Tag:noindex
X-PUBLISHED-TTL:PT1H
BEGIN:VTIMEZONE
TZID:Europe/London
BEGIN:DAYLIGHT
TZOFFSETFROM:+0000
TZOFFSETTO:+0100
TZNAME:BST
DTSTART:20240331T010000
END:DAYLIGHT
BEGIN:STANDARD
TZOFFSETFROM:+0100
TZOFFSETTO:+0000
TZNAME:GMT
DTSTART:20241027T010000
END:STANDARD
BEGIN:DAYLIGHT
TZOFFSETFROM:+0000
TZOFFSETTO:+0100
TZNAME:BST
DTSTART:20250330T010000
END:DAYLIGHT
BEGIN:STANDARD
TZOFFSETFROM:+0100
TZOFFSETTO:+0000
TZNAME:GMT
DTSTART:20251026T010000
END:STANDARD
BEGIN:DAYLIGHT
TZOFFSETFROM:+0000
TZOFFSETTO:+0100
TZNAME:BST
DTSTART:20260329T010000
END:DAYLIGHT
BEGIN:STANDARD
TZOFFSETFROM:+0100
TZOFFSETTO:+0000
TZNAME:GMT
DTSTART:20261025T010000
END:STANDARD
END:VTIMEZONE
BEGIN:VEVENT
DTSTART;TZID=Europe/London:20250316T193000
DTEND;TZID=Europe/London:20250316T210000
DTSTAMP:20260424T134501
CREATED:20250116T113507Z
LAST-MODIFIED:20250116T114751Z
UID:10000398-1742153400-1742158800@dragonsanctuary.co.uk
SUMMARY:Taizé Singing
DESCRIPTION:The songs of Taizé are easy to learn and uplifting to sing. \nTaizé is a Christian monastery in the South of France famous for its beautiful songs. We’ll sing them in three or four part harmony\, in Latin as well as various European languages. We’ll have a time for silent prayer also. We’ll keep teaching to a minimum and sing for the pure enjoyment of the devotional atmosphere that these songs evoke. \nLeo and Sundara started leading Taizé singing in 2003\, at the Findhorn Community in Scotland. These events are open to people of all faiths and none. No prior experience is necessary. For more information about these Taizé evenings\, see this page. \nDoors open at 7pm. Come early for a cup of tea and a chat if you like.
URL:https://dragonsanctuary.co.uk/event/taize-singing-20/
ATTACH;FMTTYPE=image/jpeg:https://dragonsanctuary.co.uk/wp-content/uploads/2025/01/Taize-7.jpg
ORGANIZER;CN="Leo Sofer":MAILTO:info@dragonsanctuary.co.uk
END:VEVENT
BEGIN:VEVENT
DTSTART;TZID=Europe/London:20250322T190000
DTEND;TZID=Europe/London:20250322T213000
DTSTAMP:20260424T134501
CREATED:20250116T113916Z
LAST-MODIFIED:20250321T083200Z
UID:10000399-1742670000-1742679000@dragonsanctuary.co.uk
SUMMARY:Near Death Experience Evening
DESCRIPTION:Leo writes:\nI’ve long been enthralled by the stories that people tell who were clinically dead\, but lived to tell their tale. I feel that these are among the most important stories being told today. They can also be deeply moving and inspiring. \nSundara and I have been watching some wonderful videos in the past year\, in which such people describe the extraordinary things that they experienced while “dead”. These videos are well produced\, using stock footage to bring the NDE story to life. We’ve selected another two of our favourites\, which we’ll be screening at the beginning of the evening. \nAfter a short break we’ll sit in a circle and tell our own stories about death and dying. I have another short story to tell about my father’s passing\, and I’ll be asking if you have a story that you’d like to tell (from your own experience\, or that of someone close to you) – about near death experiences or out of body experiences; about death and dying\, and communication from the dead. \nThis is a large field\, and more and more people are having such experiences. I feel it’s important to share these stories\, and to affirm the inspiring vision that they convey; of what a human life might be for\, and how we can live it to the full. \nYou don’t have to tell a story if you don’t want to\, it’s fine to just sit and listen. \nDoors open at 6.30pm for a 7pm start. We’ll finish at 9.30pm\, and you are welcome to stay for a cup of tea afterwards. \nPlease note that this is a tickets only event. Tickets can be purchased below.
URL:https://dragonsanctuary.co.uk/event/near-death-experience-evening-2/
ATTACH;FMTTYPE=image/jpeg:https://dragonsanctuary.co.uk/wp-content/uploads/2024/09/NDE-small-copy.jpg
ORGANIZER;CN="Leo Sofer":MAILTO:info@dragonsanctuary.co.uk
END:VEVENT
END:VCALENDAR