BEGIN:VCALENDAR
VERSION:2.0
PRODID:-//The Dragon Sanctuary - ECPv6.15.20//NONSGML v1.0//EN
CALSCALE:GREGORIAN
METHOD:PUBLISH
X-ORIGINAL-URL:https://dragonsanctuary.co.uk
X-WR-CALDESC:Events for The Dragon Sanctuary
REFRESH-INTERVAL;VALUE=DURATION:PT1H
X-Robots-Tag:noindex
X-PUBLISHED-TTL:PT1H
BEGIN:VTIMEZONE
TZID:Europe/London
BEGIN:DAYLIGHT
TZOFFSETFROM:+0000
TZOFFSETTO:+0100
TZNAME:BST
DTSTART:20240331T010000
END:DAYLIGHT
BEGIN:STANDARD
TZOFFSETFROM:+0100
TZOFFSETTO:+0000
TZNAME:GMT
DTSTART:20241027T010000
END:STANDARD
BEGIN:DAYLIGHT
TZOFFSETFROM:+0000
TZOFFSETTO:+0100
TZNAME:BST
DTSTART:20250330T010000
END:DAYLIGHT
BEGIN:STANDARD
TZOFFSETFROM:+0100
TZOFFSETTO:+0000
TZNAME:GMT
DTSTART:20251026T010000
END:STANDARD
BEGIN:DAYLIGHT
TZOFFSETFROM:+0000
TZOFFSETTO:+0100
TZNAME:BST
DTSTART:20260329T010000
END:DAYLIGHT
BEGIN:STANDARD
TZOFFSETFROM:+0100
TZOFFSETTO:+0000
TZNAME:GMT
DTSTART:20261025T010000
END:STANDARD
END:VTIMEZONE
BEGIN:VEVENT
DTSTART;TZID=Europe/London:20250601T193000
DTEND;TZID=Europe/London:20250601T210000
DTSTAMP:20260424T090316
CREATED:20250331T184128Z
LAST-MODIFIED:20250403T103819Z
UID:10000418-1748806200-1748811600@dragonsanctuary.co.uk
SUMMARY:Kirtan Singing
DESCRIPTION:With Leo and Sundara \nAccompanied by harmonium and guitar\, we will sing Indian devotional chants based on simple mantras. These “sung prayers” invoke the qualities of Indian deities such as love\, creativity\, courage and wisdom. These qualities are all present within us and can be brought more fully into our lives by singing together in this way. \nLeo and Sundara have been leading singing events together since 2003. Sundara plays the harmonium and Leo plays the guitar to accompany these songs. Having two instruments present enables people to sing freely and to relax into the experience\, supported by the music. \nNo prior experience is necessary. For more information about these Kirtan evenings\, see this page. \nDoors open at 7pm. Come early for a cup of tea and a chat if you like. No need to book in advance.
URL:https://dragonsanctuary.co.uk/event/kirtan-singing-34/
ATTACH;FMTTYPE=image/jpeg:https://dragonsanctuary.co.uk/wp-content/uploads/2022/10/10.jpg
ORGANIZER;CN="Leo Sofer":MAILTO:info@dragonsanctuary.co.uk
END:VEVENT
BEGIN:VEVENT
DTSTART;TZID=Europe/London:20250615T193000
DTEND;TZID=Europe/London:20250615T210000
DTSTAMP:20260424T090316
CREATED:20250331T183408Z
LAST-MODIFIED:20250403T103844Z
UID:10000414-1750015800-1750021200@dragonsanctuary.co.uk
SUMMARY:Singing Sanctuary
DESCRIPTION:With Leo and Sundara \nAccompanied by harmonium and guitar\, we’ll sing devotional songs in English. These original songs are based on prayers and sayings from spiritual traditions around the world. \nLeo and Sundara have been leading singing events together since 2003. Sundara plays the harmonium and Leo plays the guitar to accompany these songs. Having two instruments present enables people to sing freely and to relax into the experience\, supported by the music. \nNo prior experience is necessary. For more information about these Singing Sanctuary evenings\, see this page.  \nDoors open at 7pm. Come early for a cup of tea and a chat if you like. No need to book in advance.
URL:https://dragonsanctuary.co.uk/event/singing-sanctuary-32/
ATTACH;FMTTYPE=image/jpeg:https://dragonsanctuary.co.uk/wp-content/uploads/2023/08/3.jpg
ORGANIZER;CN="Leo Sofer":MAILTO:info@dragonsanctuary.co.uk
END:VEVENT
BEGIN:VEVENT
DTSTART;TZID=Europe/London:20250622T193000
DTEND;TZID=Europe/London:20250622T210000
DTSTAMP:20260424T090316
CREATED:20250331T184515Z
LAST-MODIFIED:20250424T133612Z
UID:10000420-1750620600-1750626000@dragonsanctuary.co.uk
SUMMARY:Taizé Singing
DESCRIPTION:The songs of Taizé are easy to learn and uplifting to sing. \nTaizé is a Christian monastery in the South of France famous for its beautiful songs. We’ll sing them in three or four part harmony\, in Latin as well as various European languages. We’ll have a time for silent prayer also. We’ll keep teaching to a minimum and sing for the pure enjoyment of the devotional atmosphere that these songs evoke. \nLeo and Sundara started leading Taizé singing in 2003\, at the Findhorn Community in Scotland. These events are open to people of all faiths and none. No prior experience is necessary. For more information about these Taizé evenings\, see this page. \nDoors open at 7pm. Come early for a cup of tea and a chat if you like. No need to book in advance\, just pay with cash or card on the night.
URL:https://dragonsanctuary.co.uk/event/taize-singing-copy/
ATTACH;FMTTYPE=image/jpeg:https://dragonsanctuary.co.uk/wp-content/uploads/2023/08/Taize-2.jpg
ORGANIZER;CN="Leo Sofer":MAILTO:info@dragonsanctuary.co.uk
END:VEVENT
END:VCALENDAR