BEGIN:VCALENDAR
VERSION:2.0
PRODID:-//The Dragon Sanctuary - ECPv6.15.20//NONSGML v1.0//EN
CALSCALE:GREGORIAN
METHOD:PUBLISH
X-WR-CALNAME:The Dragon Sanctuary
X-ORIGINAL-URL:https://dragonsanctuary.co.uk
X-WR-CALDESC:Events for The Dragon Sanctuary
REFRESH-INTERVAL;VALUE=DURATION:PT1H
X-Robots-Tag:noindex
X-PUBLISHED-TTL:PT1H
BEGIN:VTIMEZONE
TZID:Europe/London
BEGIN:DAYLIGHT
TZOFFSETFROM:+0000
TZOFFSETTO:+0100
TZNAME:BST
DTSTART:20240331T010000
END:DAYLIGHT
BEGIN:STANDARD
TZOFFSETFROM:+0100
TZOFFSETTO:+0000
TZNAME:GMT
DTSTART:20241027T010000
END:STANDARD
BEGIN:DAYLIGHT
TZOFFSETFROM:+0000
TZOFFSETTO:+0100
TZNAME:BST
DTSTART:20250330T010000
END:DAYLIGHT
BEGIN:STANDARD
TZOFFSETFROM:+0100
TZOFFSETTO:+0000
TZNAME:GMT
DTSTART:20251026T010000
END:STANDARD
BEGIN:DAYLIGHT
TZOFFSETFROM:+0000
TZOFFSETTO:+0100
TZNAME:BST
DTSTART:20260329T010000
END:DAYLIGHT
BEGIN:STANDARD
TZOFFSETFROM:+0100
TZOFFSETTO:+0000
TZNAME:GMT
DTSTART:20261025T010000
END:STANDARD
END:VTIMEZONE
BEGIN:VEVENT
DTSTART;TZID=Europe/London:20251108T193000
DTEND;TZID=Europe/London:20251108T210000
DTSTAMP:20260424T003327
CREATED:20250819T090603Z
LAST-MODIFIED:20250819T090603Z
UID:10000432-1762630200-1762635600@dragonsanctuary.co.uk
SUMMARY:Kirtan Singing
DESCRIPTION:With Leo and Sundara \nAccompanied by harmonium and guitar\, we will sing Indian devotional chants based on simple mantras. These “sung prayers” invoke the qualities of Indian deities such as love\, creativity\, courage and wisdom. These qualities are all present within us and can be brought more fully into our lives by singing together in this way. \nLeo and Sundara have been leading singing events together since 2003. Sundara plays the harmonium and Leo plays the guitar to accompany these songs. Having two instruments present enables people to sing freely and to relax into the experience\, supported by the music. \nNo prior experience is necessary. For more information about these Kirtan evenings\, see this page. \nDoors open at 7pm. Come early for a cup of tea and a chat if you like. No need to book in advance.
URL:https://dragonsanctuary.co.uk/event/kirtan-singing-39/
ATTACH;FMTTYPE=image/jpeg:https://dragonsanctuary.co.uk/wp-content/uploads/2025/08/2.jpg
ORGANIZER;CN="Leo Sofer":MAILTO:info@dragonsanctuary.co.uk
END:VEVENT
BEGIN:VEVENT
DTSTART;TZID=Europe/London:20251115T170000
DTEND;TZID=Europe/London:20251115T180000
DTSTAMP:20260424T003327
CREATED:20250917T073347Z
LAST-MODIFIED:20251114T175201Z
UID:10000436-1763226000-1763229600@dragonsanctuary.co.uk
SUMMARY:The World Beyond the Moon and the Stars
DESCRIPTION:Leo and Sundara Sofer will be telling two stories for children\, with musical accompaniment. \nThe World Beyond the Moon and the Stars is about a girl who longs to visit such a place. One night in her dreams\, she gets on her balloon and goes there\, only to find that it’s nothing like she expected it to be… \nThe Farmer’s Magic Shoe Tree is about a farmer who one day finds a strange plant growing in the corner of one of his fields. Upon it are dangling tiny little shoes\, which over time grow and grow until they are full sized. When he puts them on\, however\, something really magic happens! \nPerformance time is 45 minutes. Suitable for children aged 5 to 9. Attendees will also receive audio recordings of both stories by email\, after the performance. \nLeo Sofer has been telling stories since 1989. Sundara plays handpan\, flute and harmonium to accompany the telling. They have been setting stories to music together for over 20 years. \nTheir work can be found on Palace of Stories\, where you can find over 100 free audio stories for children\, as well as learn to tell your own Intuitive Stories for the children in your life. \nSee this page to listen to some of the stories they’ve told recently at The Dragon Sanctuary.
URL:https://dragonsanctuary.co.uk/event/the-world-beyond-the-moon-and-the-stars/
ATTACH;FMTTYPE=image/jpeg:https://dragonsanctuary.co.uk/wp-content/uploads/2025/09/Beyond-The-Moon-1-1.jpg
ORGANIZER;CN="Leo Sofer":MAILTO:info@dragonsanctuary.co.uk
END:VEVENT
BEGIN:VEVENT
DTSTART;TZID=Europe/London:20251122T190000
DTEND;TZID=Europe/London:20251122T213000
DTSTAMP:20260424T003327
CREATED:20250819T091730Z
LAST-MODIFIED:20251120T122117Z
UID:10000433-1763838000-1763847000@dragonsanctuary.co.uk
SUMMARY:Near Death Experience Evening
DESCRIPTION:This event has now sold out \nLeo writes:I’ve long been enthralled by the stories that people tell who were clinically dead\, but lived to tell their tale. I feel that these are among the most important stories being told today. They can also be deeply moving and inspiring. \nSundara and I have been watching some wonderful videos in the past year\, in which such people describe the extraordinary things that they experienced while “dead”. These videos are well produced\, using stock footage to bring the NDE story to life. We’ve selected another two of our favourites\, which we’ll be screening at the beginning of the evening. \nAfter a short break we’ll sit in a circle and tell our own stories about death and dying. I have another short story to tell about my father’s passing\, and I’ll be asking if you have a story that you’d like to tell (from your own experience\, or that of someone close to you) – about near death experiences or out of body experiences; about death and dying\, and communication from the dead. \nThis is a large field\, and more and more people are having such experiences. I feel it’s important to share these stories\, and to affirm the inspiring vision that they convey; of what a human life might be for\, and how we can live it to the full. \nYou don’t have to tell a story if you don’t want to\, it’s fine to just sit and listen. \nDoors open at 6.30pm for a 7pm start. We’ll finish at 9.30pm\, and you are welcome to stay for a cup of tea afterwards. \nPlease note that this is a tickets only event. Tickets can be purchased below. \n			\n			\n				\n				\n				\n				\n			\n				\n				\n				\n				\n				\n				\n				\n				\n				\n				\n				\n					\n					\n						Sharing My Father's Journey\n						Click here to read Leo’s personal story of a “shared death experience”.
URL:https://dragonsanctuary.co.uk/event/near-death-experience-evening-3/
ATTACH;FMTTYPE=image/jpeg:https://dragonsanctuary.co.uk/wp-content/uploads/2024/09/NDE-small-copy.jpg
ORGANIZER;CN="Leo Sofer":MAILTO:info@dragonsanctuary.co.uk
END:VEVENT
BEGIN:VEVENT
DTSTART;TZID=Europe/London:20251130T193000
DTEND;TZID=Europe/London:20251130T210000
DTSTAMP:20260424T003327
CREATED:20250819T092706Z
LAST-MODIFIED:20251017T071644Z
UID:10000435-1764531000-1764536400@dragonsanctuary.co.uk
SUMMARY:Harmonic Temple
DESCRIPTION:The Harmonic Temple songs\, created by Nickomo Clarke\, are sung in 3 or 4 part harmony and are based on prayers and sayings from spiritual traditions around the world. \nNickomo was inspired by the songs of Taize and wanted to create songs that were similarly easy to learn and uplifting to sing but drawn from all faiths. Some of his compositions are awe-inspiringly beautiful. \nThe songs are learned by ear (no sheet music) and then\, when we are confident of our part\, we can move around the room\, experiencing the harmonies all around us\, literally creating a Harmonic Temple with our voices. \nThe Dragon Sanctuary Choir will be supporting this event\, so that all singers will be able to easily hear and learn their part. \nLeo and Sundara began leading Harmonic Temple songs in 2003\, while living at the Findhorn Community in Scotland. For more about the Harmonic Temple\, see this page. \nNo prior experience is required. Come early for a cup of tea if you like\, doors open at 7pm for a 7.30pm start.
URL:https://dragonsanctuary.co.uk/event/harmonic-temple-7/
ATTACH;FMTTYPE=image/jpeg:https://dragonsanctuary.co.uk/wp-content/uploads/2024/07/Harmonic-Temple-1.jpg
ORGANIZER;CN="Leo Sofer":MAILTO:info@dragonsanctuary.co.uk
END:VEVENT
END:VCALENDAR