BEGIN:VCALENDAR
VERSION:2.0
PRODID:-//The Dragon Sanctuary - ECPv6.15.20//NONSGML v1.0//EN
CALSCALE:GREGORIAN
METHOD:PUBLISH
X-WR-CALNAME:The Dragon Sanctuary
X-ORIGINAL-URL:https://dragonsanctuary.co.uk
X-WR-CALDESC:Events for The Dragon Sanctuary
REFRESH-INTERVAL;VALUE=DURATION:PT1H
X-Robots-Tag:noindex
X-PUBLISHED-TTL:PT1H
BEGIN:VTIMEZONE
TZID:Europe/London
BEGIN:DAYLIGHT
TZOFFSETFROM:+0000
TZOFFSETTO:+0100
TZNAME:BST
DTSTART:20170326T010000
END:DAYLIGHT
BEGIN:STANDARD
TZOFFSETFROM:+0100
TZOFFSETTO:+0000
TZNAME:GMT
DTSTART:20171029T010000
END:STANDARD
BEGIN:DAYLIGHT
TZOFFSETFROM:+0000
TZOFFSETTO:+0100
TZNAME:BST
DTSTART:20180325T010000
END:DAYLIGHT
BEGIN:STANDARD
TZOFFSETFROM:+0100
TZOFFSETTO:+0000
TZNAME:GMT
DTSTART:20181028T010000
END:STANDARD
BEGIN:DAYLIGHT
TZOFFSETFROM:+0000
TZOFFSETTO:+0100
TZNAME:BST
DTSTART:20190331T010000
END:DAYLIGHT
BEGIN:STANDARD
TZOFFSETFROM:+0100
TZOFFSETTO:+0000
TZNAME:GMT
DTSTART:20191027T010000
END:STANDARD
END:VTIMEZONE
BEGIN:VEVENT
DTSTART;TZID=Europe/London:20180313T183000
DTEND;TZID=Europe/London:20180313T203000
DTSTAMP:20260425T112607
CREATED:20180227T172835Z
LAST-MODIFIED:20180307T163918Z
UID:10000085-1520965800-1520973000@dragonsanctuary.co.uk
SUMMARY:Home Herbal Medicine
DESCRIPTION:Six part Introduction to Herbal Medicine on Tuesday evenings\, with Clare Shippey\, Medical Herbalist\nWe will look at some of the different ways of administering herbs as well as what they are used for. You will learn how to make botanical preparations that can be used in the treatment of everyday ailments. This will include making ointments\, tinctures\, vinegars\, teas\, infused oils and syrups.  \nOver the six weeks we’ll look at the uses of 12 different herbs in some detail. This will include meeting the plants through tea tastings. We will also look at harvesting herbs and safe foraging guidelines. \nCost £150 / £120 concession\nPlaces are limited to 8 \nPlease contact me directly to book:\ncall 07853 191904\nor email rootedherbs@gmail.com \nClare Shippey\nMedical Herbalist
URL:https://dragonsanctuary.co.uk/event/home-herbal-medicine/
CATEGORIES:Classes
ATTACH;FMTTYPE=image/jpeg:https://dragonsanctuary.co.uk/wp-content/uploads/2018/02/clare-shippey-herbalist-e1519744315230.jpg
ORGANIZER;CN="Clare Shippey":MAILTO:rootedherbs@gmail.com
END:VEVENT
BEGIN:VEVENT
DTSTART;TZID=Europe/London:20180304T180000
DTEND;TZID=Europe/London:20180304T210000
DTSTAMP:20260425T112607
CREATED:20180307T180421Z
LAST-MODIFIED:20180307T194454Z
UID:10000042-1520186400-1520197200@dragonsanctuary.co.uk
SUMMARY:Opening Evening - Renewals and Reflections
DESCRIPTION:Karn writes:\nRenewal and Reflections – the cycle of the seasons and now spring bringing forth new life. A new start\, a new beginning each day\, with the sunrise and the sunset\, the stillness of water and the stormy seas. \nIt is my love of the peace and tranquility we can find in nature that has influenced me in the paintings that I am doing now. \nI travelled some years ago with my husband and small children in Europe and North Africa\, both of us painted and played music. We spent time in the mountains\, the desert and by the sea\, and the memories of the places we went to have inspired me in these recent paintings. \nPrevious to this\, I studied ceramics at Art College\, worked in potteries in Denmark and at Poole Pottery. I continue to make pottery\, both sculptural and functional. I also studied paint effects\, finishes and murals\, from which I have done several commissions. \nMy paintings are mostly oil on canvas. I have the good fortune of painting with a lovely group of women and learning techniques from a wonderful mentor whose knowledge is truly inspiring.\n				\n\n					\n				\n\n					Brian writes:\nArt is something that I always loved to do – be it painting\, pen doodles and the more fine-art based abstract photography. The photography side of things was where I started from (but even then the artwork was always there – sometimes as inspiration to the photos)\, drawings and abstracts in watercolours and pen and ink\, plus a few tentative attempts at putting ideas down on canvas. \nThe major and more recent “why” comes down to experiencing one of those unwanted\, unwelcome and prolonged periods of being out of work some years ago now. And I was looking for something to fill that otherwise dead time whilst waiting to hear about jobs that so often failed to materialise\, something that wasn’t too much of a drain on my then limited resources. So painting it was! \nInitially starting with a purely abstract – seeing what worked and what didn’t. From there gradually evolving into a more structured approach\, but still keeping that abstract feel to what I was doing. Also seeing how that approach worked on found objects like driftwood\, as well as doing more traditional – i.e. “proper” paintings – and in the last few months blending these two styles together to see how they worked together – one of which is included in the current exhibition. \nI hope you enjoy the exhibition and that the above goes some way to explaining what exactly it is that I do! \nFor further info/commissions please contact: brian.weatherup@homecall.co.uk\nor visit Brian Weatherup on Facebook
URL:https://dragonsanctuary.co.uk/event/opening-evening-renewals-and-reflections/
LOCATION:The Dragon Sanctuary\, 34 Bossell Road\, Buckfastleigh\, Devon\, TQ11 0DD\, United Kingdom
CATEGORIES:Exhibitions,Opening Events
ATTACH;FMTTYPE=image/jpeg:https://dragonsanctuary.co.uk/wp-content/uploads/2018/02/karn-brian-show.jpg
GEO:50.4803699;-3.7806423
X-APPLE-STRUCTURED-LOCATION;VALUE=URI;X-ADDRESS=The Dragon Sanctuary 34 Bossell Road Buckfastleigh Devon TQ11 0DD United Kingdom;X-APPLE-RADIUS=500;X-TITLE=34 Bossell Road:geo:-3.7806423,50.4803699
END:VEVENT
BEGIN:VEVENT
DTSTART;VALUE=DATE:20180303
DTEND;VALUE=DATE:20180402
DTSTAMP:20260425T112607
CREATED:20180227T180056Z
LAST-MODIFIED:20180310T141014Z
UID:10000041-1520035200-1522544399@dragonsanctuary.co.uk
SUMMARY:Exhibition - Renewal and Reflections
DESCRIPTION:The Jellyfish gallery and café is open from 12-5pm on Tuesdays to Fridays and 3-6pm on Saturdays\nKarn writes:\nRenewal and Reflections – the cycle of the seasons and now spring bringing forth new life. A new start\, a new beginning each day\, with the sunrise and the sunset\, the stillness of water and the stormy seas. \nIt is my love of the peace and tranquility we can find in nature that has influenced me in the paintings that I am doing now. \nI travelled some years ago with my husband and small children in Europe and North Africa\, both of us painted and played music. We spent time in the mountains\, the desert and by the sea\, and the memories of the places we went to have inspired me in these recent paintings. \nPrevious to this\, I studied ceramics at Art College\, worked in potteries in Denmark and at Poole Pottery. I continue to make pottery\, both sculptural and functional. I also studied paint effects\, finishes and murals\, from which I have done several commissions. \nMy paintings are mostly oil on canvas. I have the good fortune of painting with a lovely group of women and learning techniques from a wonderful mentor whose knowledge is truly inspiring.\n				\n\n					\n				\n\n					Brian writes:\nArt is something that I always loved to do – be it painting\, pen doodles and the more fine-art based abstract photography. The photography side of things was where I started from (but even then the artwork was always there – sometimes as inspiration to the photos)\, drawings and abstracts in watercolours and pen and ink\, plus a few tentative attempts at putting ideas down on canvas. \nThe major and more recent “why” comes down to experiencing one of those unwanted\, unwelcome and prolonged periods of being out of work some years ago now. And I was looking for something to fill that otherwise dead time whilst waiting to hear about jobs that so often failed to materialise\, something that wasn’t too much of a drain on my then limited resources. So painting it was! \nInitially starting with a purely abstract – seeing what worked and what didn’t. From there gradually evolving into a more structured approach\, but still keeping that abstract feel to what I was doing. Also seeing how that approach worked on found objects like driftwood\, as well as doing more traditional – i.e. “proper” paintings – and in the last few months blending these two styles together to see how they worked together – one of which is included in the current exhibition. \nI hope you enjoy the exhibition and that the above goes some way to explaining what exactly it is that I do! \nFor further info/commissions please contact: brian.weatherup@homecall.co.uk\nor visit Brian Weatherup on Facebook
URL:https://dragonsanctuary.co.uk/event/renewal-and-reflections/
CATEGORIES:Exhibitions
ATTACH;FMTTYPE=image/jpeg:https://dragonsanctuary.co.uk/wp-content/uploads/2018/02/karn-brian-show.jpg
ORGANIZER;CN="Karn Harding and Brian Weatherup":MAILTO:brian.weatherup@homecall.co.uk
END:VEVENT
END:VCALENDAR