BEGIN:VCALENDAR
VERSION:2.0
PRODID:-//The Dragon Sanctuary - ECPv6.15.20//NONSGML v1.0//EN
CALSCALE:GREGORIAN
METHOD:PUBLISH
X-ORIGINAL-URL:https://dragonsanctuary.co.uk
X-WR-CALDESC:Events for The Dragon Sanctuary
REFRESH-INTERVAL;VALUE=DURATION:PT1H
X-Robots-Tag:noindex
X-PUBLISHED-TTL:PT1H
BEGIN:VTIMEZONE
TZID:Europe/London
BEGIN:DAYLIGHT
TZOFFSETFROM:+0000
TZOFFSETTO:+0100
TZNAME:BST
DTSTART:20240331T010000
END:DAYLIGHT
BEGIN:STANDARD
TZOFFSETFROM:+0100
TZOFFSETTO:+0000
TZNAME:GMT
DTSTART:20241027T010000
END:STANDARD
BEGIN:DAYLIGHT
TZOFFSETFROM:+0000
TZOFFSETTO:+0100
TZNAME:BST
DTSTART:20250330T010000
END:DAYLIGHT
BEGIN:STANDARD
TZOFFSETFROM:+0100
TZOFFSETTO:+0000
TZNAME:GMT
DTSTART:20251026T010000
END:STANDARD
BEGIN:DAYLIGHT
TZOFFSETFROM:+0000
TZOFFSETTO:+0100
TZNAME:BST
DTSTART:20260329T010000
END:DAYLIGHT
BEGIN:STANDARD
TZOFFSETFROM:+0100
TZOFFSETTO:+0000
TZNAME:GMT
DTSTART:20261025T010000
END:STANDARD
END:VTIMEZONE
BEGIN:VEVENT
DTSTART;TZID=Europe/London:20251206T193000
DTEND;TZID=Europe/London:20251206T210000
DTSTAMP:20260424T003455
CREATED:20251009T192938Z
LAST-MODIFIED:20251019T091240Z
UID:10000437-1765049400-1765054800@dragonsanctuary.co.uk
SUMMARY:Kirtan Singing
DESCRIPTION:With Leo and Sundara \nAccompanied by harmonium and guitar\, we will sing Indian devotional chants based on simple mantras. These “sung prayers” invoke the qualities of Indian deities such as love\, creativity\, courage and wisdom. These qualities are all present within us and can be brought more fully into our lives by singing together in this way. \nLeo and Sundara have been leading singing events together since 2003. Sundara plays the harmonium and Leo plays the guitar to accompany these songs. Having two instruments present enables people to sing freely and to relax into the experience\, supported by the music. \nNo prior experience is necessary. For more information about these Kirtan evenings\, see this page. \nDoors open at 7pm. Come early for a cup of tea and a chat if you like. No need to book in advance.
URL:https://dragonsanctuary.co.uk/event/kirtan-singing-40/
ATTACH;FMTTYPE=image/jpeg:https://dragonsanctuary.co.uk/wp-content/uploads/2025/10/3.jpg
ORGANIZER;CN="Leo Sofer":MAILTO:info@dragonsanctuary.co.uk
END:VEVENT
BEGIN:VEVENT
DTSTART;TZID=Europe/London:20251207T193000
DTEND;TZID=Europe/London:20251207T211500
DTSTAMP:20260424T003455
CREATED:20251014T220236Z
LAST-MODIFIED:20251113T145534Z
UID:10000441-1765135800-1765142100@dragonsanctuary.co.uk
SUMMARY:German Christmas Carols
DESCRIPTION:With Leo and Sundara \nWe’ll be singing some of our favourite German carols\, in two part harmony.  \nGerman Christmas carols can be very tender and lyrical\, and lovely to sing. They often focus on the winter landscape – the snow\, the woods\, the animals – and the magical atmosphere of Christmastime.  \nThe event will be led in English\, so you don’t need to understand German to come along. We won’t be translating or pronouncing the songs\, however\, so although some prior experience of German is not essential\, it might enhance your experience! \nDoors open at 6.45pm. Do come early for glühwein and German Christmas biscuits! \n7.30pm to 9.15pm\, with a tea break. No need to book\, just turn up on the night!
URL:https://dragonsanctuary.co.uk/event/german-christmas-carols-2/
ATTACH;FMTTYPE=image/jpeg:https://dragonsanctuary.co.uk/wp-content/uploads/2024/12/St-Nickaus.jpg
ORGANIZER;CN="Leo Sofer":MAILTO:info@dragonsanctuary.co.uk
END:VEVENT
END:VCALENDAR