BEGIN:VCALENDAR
VERSION:2.0
PRODID:-//The Dragon Sanctuary - ECPv6.15.20//NONSGML v1.0//EN
CALSCALE:GREGORIAN
METHOD:PUBLISH
X-ORIGINAL-URL:https://dragonsanctuary.co.uk
X-WR-CALDESC:Events for The Dragon Sanctuary
REFRESH-INTERVAL;VALUE=DURATION:PT1H
X-Robots-Tag:noindex
X-PUBLISHED-TTL:PT1H
BEGIN:VTIMEZONE
TZID:Europe/London
BEGIN:DAYLIGHT
TZOFFSETFROM:+0000
TZOFFSETTO:+0100
TZNAME:BST
DTSTART:20250330T010000
END:DAYLIGHT
BEGIN:STANDARD
TZOFFSETFROM:+0100
TZOFFSETTO:+0000
TZNAME:GMT
DTSTART:20251026T010000
END:STANDARD
BEGIN:DAYLIGHT
TZOFFSETFROM:+0000
TZOFFSETTO:+0100
TZNAME:BST
DTSTART:20260329T010000
END:DAYLIGHT
BEGIN:STANDARD
TZOFFSETFROM:+0100
TZOFFSETTO:+0000
TZNAME:GMT
DTSTART:20261025T010000
END:STANDARD
BEGIN:DAYLIGHT
TZOFFSETFROM:+0000
TZOFFSETTO:+0100
TZNAME:BST
DTSTART:20270328T010000
END:DAYLIGHT
BEGIN:STANDARD
TZOFFSETFROM:+0100
TZOFFSETTO:+0000
TZNAME:GMT
DTSTART:20271031T010000
END:STANDARD
END:VTIMEZONE
BEGIN:VEVENT
DTSTART;TZID=Europe/London:20260125T193000
DTEND;TZID=Europe/London:20260125T210000
DTSTAMP:20260423T230034
CREATED:20251112T142237Z
LAST-MODIFIED:20251112T142237Z
UID:10000443-1769369400-1769374800@dragonsanctuary.co.uk
SUMMARY:Harmonic Temple
DESCRIPTION:The Harmonic Temple songs\, created by Nickomo Clarke\, are sung in 3 or 4 part harmony and are based on prayers and sayings from spiritual traditions around the world. \nNickomo was inspired by the songs of Taize and wanted to create songs that were similarly easy to learn and uplifting to sing but drawn from all faiths. Some of his compositions are awe-inspiringly beautiful. \nThe songs are learned by ear (no sheet music) and then\, when we are confident of our part\, we can move around the room\, experiencing the harmonies all around us\, literally creating a Harmonic Temple with our voices. \nThe Dragon Sanctuary Choir will be supporting this event\, so that all singers will be able to easily hear and learn their part. \nLeo and Sundara began leading Harmonic Temple songs in 2003\, while living at the Findhorn Community in Scotland. For more about the Harmonic Temple\, see this page. \nNo prior experience is required. Come early for a cup of tea if you like\, doors open at 7pm for a 7.30pm start.
URL:https://dragonsanctuary.co.uk/event/harmonic-temple-8/
ATTACH;FMTTYPE=image/jpeg:https://dragonsanctuary.co.uk/wp-content/uploads/2025/11/Harmonic-Temple-4.jpg
ORGANIZER;CN="Leo Sofer":MAILTO:info@dragonsanctuary.co.uk
END:VEVENT
END:VCALENDAR