BEGIN:VCALENDAR
VERSION:2.0
PRODID:-//The Dragon Sanctuary - ECPv6.15.20//NONSGML v1.0//EN
CALSCALE:GREGORIAN
METHOD:PUBLISH
X-ORIGINAL-URL:https://dragonsanctuary.co.uk
X-WR-CALDESC:Events for The Dragon Sanctuary
REFRESH-INTERVAL;VALUE=DURATION:PT1H
X-Robots-Tag:noindex
X-PUBLISHED-TTL:PT1H
BEGIN:VTIMEZONE
TZID:Europe/London
BEGIN:DAYLIGHT
TZOFFSETFROM:+0000
TZOFFSETTO:+0100
TZNAME:BST
DTSTART:20170326T010000
END:DAYLIGHT
BEGIN:STANDARD
TZOFFSETFROM:+0100
TZOFFSETTO:+0000
TZNAME:GMT
DTSTART:20171029T010000
END:STANDARD
BEGIN:DAYLIGHT
TZOFFSETFROM:+0000
TZOFFSETTO:+0100
TZNAME:BST
DTSTART:20180325T010000
END:DAYLIGHT
BEGIN:STANDARD
TZOFFSETFROM:+0100
TZOFFSETTO:+0000
TZNAME:GMT
DTSTART:20181028T010000
END:STANDARD
BEGIN:DAYLIGHT
TZOFFSETFROM:+0000
TZOFFSETTO:+0100
TZNAME:BST
DTSTART:20190331T010000
END:DAYLIGHT
BEGIN:STANDARD
TZOFFSETFROM:+0100
TZOFFSETTO:+0000
TZNAME:GMT
DTSTART:20191027T010000
END:STANDARD
END:VTIMEZONE
BEGIN:VEVENT
DTSTART;TZID=Europe/London:20180809T180000
DTEND;TZID=Europe/London:20180809T203000
DTSTAMP:20260424T213110
CREATED:20180713T102449Z
LAST-MODIFIED:20180713T162939Z
UID:10000116-1533837600-1533846600@dragonsanctuary.co.uk
SUMMARY:Buckfastleigh Tapestry Weavers
DESCRIPTION:First evening meet of the Buckfastleigh group. Launched this year under the tutelage of fibre artist Isabelle Jourdan\, our group has been set up to celebrate our community’s heritage as a woollen town. We are looking to learn and improve on our skills and techniques and welcome input from existing weavers in the town.
URL:https://dragonsanctuary.co.uk/event/buckfastleigh-tapestry-weavers/
ATTACH;FMTTYPE=image/jpeg:https://dragonsanctuary.co.uk/wp-content/uploads/2018/07/36367191_10217483026294659_2703505226467377152_n.jpg
ORGANIZER;CN="Annie Morris":MAILTO:acmorris8642@gmail.com
END:VEVENT
END:VCALENDAR