BEGIN:VCALENDAR
VERSION:2.0
PRODID:-//The Dragon Sanctuary - ECPv6.15.20//NONSGML v1.0//EN
CALSCALE:GREGORIAN
METHOD:PUBLISH
X-ORIGINAL-URL:https://dragonsanctuary.co.uk
X-WR-CALDESC:Events for The Dragon Sanctuary
REFRESH-INTERVAL;VALUE=DURATION:PT1H
X-Robots-Tag:noindex
X-PUBLISHED-TTL:PT1H
BEGIN:VTIMEZONE
TZID:Europe/London
BEGIN:DAYLIGHT
TZOFFSETFROM:+0000
TZOFFSETTO:+0100
TZNAME:BST
DTSTART:20180325T010000
END:DAYLIGHT
BEGIN:STANDARD
TZOFFSETFROM:+0100
TZOFFSETTO:+0000
TZNAME:GMT
DTSTART:20181028T010000
END:STANDARD
BEGIN:DAYLIGHT
TZOFFSETFROM:+0000
TZOFFSETTO:+0100
TZNAME:BST
DTSTART:20190331T010000
END:DAYLIGHT
BEGIN:STANDARD
TZOFFSETFROM:+0100
TZOFFSETTO:+0000
TZNAME:GMT
DTSTART:20191027T010000
END:STANDARD
BEGIN:DAYLIGHT
TZOFFSETFROM:+0000
TZOFFSETTO:+0100
TZNAME:BST
DTSTART:20200329T010000
END:DAYLIGHT
BEGIN:STANDARD
TZOFFSETFROM:+0100
TZOFFSETTO:+0000
TZNAME:GMT
DTSTART:20201025T010000
END:STANDARD
END:VTIMEZONE
BEGIN:VEVENT
DTSTART;TZID=Europe/London:20190419T190000
DTEND;TZID=Europe/London:20190419T210000
DTSTAMP:20260424T195949
CREATED:20190310T221714Z
LAST-MODIFIED:20190419T165505Z
UID:10000158-1555700400-1555707600@dragonsanctuary.co.uk
SUMMARY:Saga Grünwald - author\, druid\, photographer - an evening with Dartmoor stories\, poems\, images
DESCRIPTION:Saga Grünwald\, author\, druid and photographer from Germany will be reading from her new book LIMINAL REALMS\, and other works. \nSaga promotes and facilitates our connection with nature and our heritage through images and language. From her bio: “She strives to live in harmony with the earth\, sea and sky\, .. to protect nature and to spread peace…. to respect all beings and to meet all living things with love”.  \nI first met Saga last year\, when she and her little dog Goldi were staying as my AirBnB guests. Saga immersed herself in the elements\, woods\, Tors\, wind and weather of Dartmoor with its stories and myths to work on a new book. Her work sucks me right into nature with all its qualities of nurture\, eternity\, mortality\, transience …. I was determined to bring Saga back to help her share the finished book\, and here she is! \n Tickets are £8 on the door. Tickets can now no longer be booked online.  \nWikipedia definition ‘liminality‘: In anthropology\, liminality is the quality of ambiguity or disorientation that occurs in the middle stage of a rite of passage\, when participants no longer hold their pre-ritual status but have not yet begun the transition to the status they will hold when the rite is complete.
URL:https://dragonsanctuary.co.uk/event/saga-grunwald-author-druid-photographer-an-evening-with-dartmoor-stories-poems-images/
CATEGORIES:Talks and Gatherings
ATTACH;FMTTYPE=image/jpeg:https://dragonsanctuary.co.uk/wp-content/uploads/2019/03/Warriors-image-for-Jellyfish.jpg
ORGANIZER;CN="Carola Buhse":MAILTO:wakingdance@gmail.com
END:VEVENT
END:VCALENDAR