BEGIN:VCALENDAR
VERSION:2.0
PRODID:-//The Dragon Sanctuary - ECPv6.15.20//NONSGML v1.0//EN
CALSCALE:GREGORIAN
METHOD:PUBLISH
X-WR-CALNAME:The Dragon Sanctuary
X-ORIGINAL-URL:https://dragonsanctuary.co.uk
X-WR-CALDESC:Events for The Dragon Sanctuary
REFRESH-INTERVAL;VALUE=DURATION:PT1H
X-Robots-Tag:noindex
X-PUBLISHED-TTL:PT1H
BEGIN:VTIMEZONE
TZID:Europe/London
BEGIN:DAYLIGHT
TZOFFSETFROM:+0000
TZOFFSETTO:+0100
TZNAME:BST
DTSTART:20170326T010000
END:DAYLIGHT
BEGIN:STANDARD
TZOFFSETFROM:+0100
TZOFFSETTO:+0000
TZNAME:GMT
DTSTART:20171029T010000
END:STANDARD
BEGIN:DAYLIGHT
TZOFFSETFROM:+0000
TZOFFSETTO:+0100
TZNAME:BST
DTSTART:20180325T010000
END:DAYLIGHT
BEGIN:STANDARD
TZOFFSETFROM:+0100
TZOFFSETTO:+0000
TZNAME:GMT
DTSTART:20181028T010000
END:STANDARD
BEGIN:DAYLIGHT
TZOFFSETFROM:+0000
TZOFFSETTO:+0100
TZNAME:BST
DTSTART:20190331T010000
END:DAYLIGHT
BEGIN:STANDARD
TZOFFSETFROM:+0100
TZOFFSETTO:+0000
TZNAME:GMT
DTSTART:20191027T010000
END:STANDARD
END:VTIMEZONE
BEGIN:VEVENT
DTSTART;TZID=Europe/London:20180526T193000
DTEND;TZID=Europe/London:20180526T220000
DTSTAMP:20260424T200121
CREATED:20180402T141307Z
LAST-MODIFIED:20180403T153337Z
UID:10000090-1527363000-1527372000@dragonsanctuary.co.uk
SUMMARY:Kirtan Concert with Elise Yuill Cohen (Stand Up To Cancer)
DESCRIPTION:An evening of heart warming sacred songs and mantras with devotional performance artist Elise Yuill Cohen – you will be invited to sing along in Kirtan  style participation\, or simply listen to this sacred sound healing music\, to remember\, honour and celebrate those we’ve loved and lost to cancer. Whilst together we raise a little funding to support those who are still in the fight. \nEntry by Donation – Charity Fundraiser\nAll donations are going to www.macmillan.org.uk to improve the lives of people affected by cancer. \nInspired by multicultural traditions of Kirtan style sing along gatherings\, Elise breaths new life into contemporary devotional music. \n“With her crystal clear vocals & spellbinding melodies\, Elise weaves an exquisite tapestry of conscious folk songs and sacred chants which are sure to energise your spirit\, enliven your soul and make your body and heart dance.” \nCome and discover the joy of singing with devotion. With easy to follow melodies\, no singing experience or technique is necessary – this is Yoga for your Voice! OR a concert to soothe the soul.
URL:https://dragonsanctuary.co.uk/event/kirtan-concert-with-elise-yuill-cohen-stand-up-to-cancer/
CATEGORIES:Performances
ATTACH;FMTTYPE=image/jpeg:https://dragonsanctuary.co.uk/wp-content/uploads/2018/04/0503CEDD-1370-47AF-A434-B67E217965A1.jpeg
ORGANIZER;CN="Elise Yuill Cohen":MAILTO:elise@eliseyuillcohen.com
END:VEVENT
END:VCALENDAR