BEGIN:VCALENDAR
VERSION:2.0
PRODID:-//The Dragon Sanctuary - ECPv6.15.20//NONSGML v1.0//EN
CALSCALE:GREGORIAN
METHOD:PUBLISH
X-ORIGINAL-URL:https://dragonsanctuary.co.uk
X-WR-CALDESC:Events for The Dragon Sanctuary
REFRESH-INTERVAL;VALUE=DURATION:PT1H
X-Robots-Tag:noindex
X-PUBLISHED-TTL:PT1H
BEGIN:VTIMEZONE
TZID:Europe/London
BEGIN:DAYLIGHT
TZOFFSETFROM:+0000
TZOFFSETTO:+0100
TZNAME:BST
DTSTART:20170326T010000
END:DAYLIGHT
BEGIN:STANDARD
TZOFFSETFROM:+0100
TZOFFSETTO:+0000
TZNAME:GMT
DTSTART:20171029T010000
END:STANDARD
BEGIN:DAYLIGHT
TZOFFSETFROM:+0000
TZOFFSETTO:+0100
TZNAME:BST
DTSTART:20180325T010000
END:DAYLIGHT
BEGIN:STANDARD
TZOFFSETFROM:+0100
TZOFFSETTO:+0000
TZNAME:GMT
DTSTART:20181028T010000
END:STANDARD
BEGIN:DAYLIGHT
TZOFFSETFROM:+0000
TZOFFSETTO:+0100
TZNAME:BST
DTSTART:20190331T010000
END:DAYLIGHT
BEGIN:STANDARD
TZOFFSETFROM:+0100
TZOFFSETTO:+0000
TZNAME:GMT
DTSTART:20191027T010000
END:STANDARD
END:VTIMEZONE
BEGIN:VEVENT
DTSTART;TZID=Europe/London:20181127T191500
DTEND;TZID=Europe/London:20181127T213000
DTSTAMP:20260424T183721
CREATED:20180718T091032Z
LAST-MODIFIED:20180718T091032Z
UID:10000122-1543346100-1543354200@dragonsanctuary.co.uk
SUMMARY:OM Voice Circles - Autumn Workshop Series
DESCRIPTION:OM Voice Circles invite all who feel a calling to explore their voice\, discover the power of singing with devotion and experience the uplifting\, heart opening\, transformational healing effects of mantra\, chanting and sacred sound in a safe\, supportive\, loving and expansive environment. \nThis closed group\, held by Elise in Buckfastleigh at Jellyfish Community Hub\, meet once a fortnight for a series of 6 workshop sessions\, held once a season (usually in spring\, summer and autumn). The first OM Voice Circle of each series is open as a taster (£15)\, after which the circle is closed until the next season. The circle is closed for each course after the initial taster session to invite\, enhance and preserve the intimacy and unity created when the same group of individuals gather regularly. Collectively we will dive deeply into what can be a profound\, tender and deeply healing journey. \n1ST WORKSHOP IS AN OPEN TASTER: £15 (Advance booking required). You are welcome to attend just for the first date even if you are unable to continue with the workshop series. \nThe remaining 5 dates for the series is a closed group and advance booking is required to confirm your space. \nAutumn 2018 Dates: \n18 September\, 2\, 16\, 30 October\, 13\, 27 November 2018.
URL:https://dragonsanctuary.co.uk/event/om-voice-circles-autumn-workshop-series/2018-11-27/
ATTACH;FMTTYPE=image/jpeg:https://dragonsanctuary.co.uk/wp-content/uploads/2018/07/preview.jpg
ORGANIZER;CN="Elise Yuill Cohen":MAILTO:elise@eliseyuillcohen.com
END:VEVENT
END:VCALENDAR