BEGIN:VCALENDAR
VERSION:2.0
PRODID:-//The Dragon Sanctuary - ECPv6.15.20//NONSGML v1.0//EN
CALSCALE:GREGORIAN
METHOD:PUBLISH
X-WR-CALNAME:The Dragon Sanctuary
X-ORIGINAL-URL:https://dragonsanctuary.co.uk
X-WR-CALDESC:Events for The Dragon Sanctuary
REFRESH-INTERVAL;VALUE=DURATION:PT1H
X-Robots-Tag:noindex
X-PUBLISHED-TTL:PT1H
BEGIN:VTIMEZONE
TZID:Europe/London
BEGIN:DAYLIGHT
TZOFFSETFROM:+0000
TZOFFSETTO:+0100
TZNAME:BST
DTSTART:20180325T010000
END:DAYLIGHT
BEGIN:STANDARD
TZOFFSETFROM:+0100
TZOFFSETTO:+0000
TZNAME:GMT
DTSTART:20181028T010000
END:STANDARD
BEGIN:DAYLIGHT
TZOFFSETFROM:+0000
TZOFFSETTO:+0100
TZNAME:BST
DTSTART:20190331T010000
END:DAYLIGHT
BEGIN:STANDARD
TZOFFSETFROM:+0100
TZOFFSETTO:+0000
TZNAME:GMT
DTSTART:20191027T010000
END:STANDARD
BEGIN:DAYLIGHT
TZOFFSETFROM:+0000
TZOFFSETTO:+0100
TZNAME:BST
DTSTART:20200329T010000
END:DAYLIGHT
BEGIN:STANDARD
TZOFFSETFROM:+0100
TZOFFSETTO:+0000
TZNAME:GMT
DTSTART:20201025T010000
END:STANDARD
END:VTIMEZONE
BEGIN:VEVENT
DTSTART;TZID=Europe/London:20191124T103000
DTEND;TZID=Europe/London:20191124T120000
DTSTAMP:20260424T170911
CREATED:20191015T104306Z
LAST-MODIFIED:20191106T162618Z
UID:10000209-1574591400-1574596800@dragonsanctuary.co.uk
SUMMARY:The Sacred Art of Clutter Clearing
DESCRIPTION:The Art of Sacred Clutter Clearing invites you to release the past that no longer serves\, awaken to the present and activate the life you long to live. \nIn a gentle and supportive group using tools including guided imagery\, journalling and self-enquiry we will explore the dynamics of clutter; how to gain clarity\, dissolve blocks and activate your hearts’ desires. \nClutter Clearing is a precious gift to your self and a powerful journey that reconnects you with your innate creative power\, allowing space for joy and inner wisdom to flow. \n*Introductory course special offer £30 for all 3 sessions – booking is essential. \nContact Camilla on 07944 694210 or heartalignedliving@gmail.com if you have questions or to book your place. \nTo find out more about me and what I offer go to https://www.heartalignedliving.com“ \n“Listen\, are you breathing just a little and calling it a life?” – Mary Oliver
URL:https://dragonsanctuary.co.uk/event/the-sacred-art-of-clutter-clearing/2019-11-24/
LOCATION:The Dragon Sanctuary\, 34 Bossell Road\, Buckfastleigh\, Devon\, TQ11 0DD\, United Kingdom
CATEGORIES:Classes
ATTACH;FMTTYPE=image/jpeg:https://dragonsanctuary.co.uk/wp-content/uploads/2019/10/clutter-clearing.jpeg
ORGANIZER;CN="Heart Aligned Living":MAILTO:heartalignedliving@gmail.com
GEO:50.4803699;-3.7806423
X-APPLE-STRUCTURED-LOCATION;VALUE=URI;X-ADDRESS=The Dragon Sanctuary 34 Bossell Road Buckfastleigh Devon TQ11 0DD United Kingdom;X-APPLE-RADIUS=500;X-TITLE=34 Bossell Road:geo:-3.7806423,50.4803699
END:VEVENT
END:VCALENDAR