BEGIN:VCALENDAR
VERSION:2.0
PRODID:-//The Dragon Sanctuary - ECPv6.15.20//NONSGML v1.0//EN
CALSCALE:GREGORIAN
METHOD:PUBLISH
X-WR-CALNAME:The Dragon Sanctuary
X-ORIGINAL-URL:https://dragonsanctuary.co.uk
X-WR-CALDESC:Events for The Dragon Sanctuary
REFRESH-INTERVAL;VALUE=DURATION:PT1H
X-Robots-Tag:noindex
X-PUBLISHED-TTL:PT1H
BEGIN:VTIMEZONE
TZID:Europe/London
BEGIN:DAYLIGHT
TZOFFSETFROM:+0000
TZOFFSETTO:+0100
TZNAME:BST
DTSTART:20170326T010000
END:DAYLIGHT
BEGIN:STANDARD
TZOFFSETFROM:+0100
TZOFFSETTO:+0000
TZNAME:GMT
DTSTART:20171029T010000
END:STANDARD
BEGIN:DAYLIGHT
TZOFFSETFROM:+0000
TZOFFSETTO:+0100
TZNAME:BST
DTSTART:20180325T010000
END:DAYLIGHT
BEGIN:STANDARD
TZOFFSETFROM:+0100
TZOFFSETTO:+0000
TZNAME:GMT
DTSTART:20181028T010000
END:STANDARD
BEGIN:DAYLIGHT
TZOFFSETFROM:+0000
TZOFFSETTO:+0100
TZNAME:BST
DTSTART:20190331T010000
END:DAYLIGHT
BEGIN:STANDARD
TZOFFSETFROM:+0100
TZOFFSETTO:+0000
TZNAME:GMT
DTSTART:20191027T010000
END:STANDARD
END:VTIMEZONE
BEGIN:VEVENT
DTSTART;TZID=Europe/London:20181027T200000
DTEND;TZID=Europe/London:20181027T213000
DTSTAMP:20260424T183516
CREATED:20180927T132624Z
LAST-MODIFIED:20181026T101629Z
UID:10000113-1540670400-1540675800@dragonsanctuary.co.uk
SUMMARY:SPELLBOUND - SOLD OUT!
DESCRIPTION:SOLD OUT!\nJackie Juno’s latest one-woman multi-media show SPELLBOUND – Being The True Tale of a Reluctant Witch Unable to Escape Her Destiny.\nFunny\, confessional\, informative\, tender and profound – for anyone who has felt to be an outsider. A courageous coming-of-age tale\, riveting in its honesty. Peppered with poetry\, visuals and music… a hugely entertaining experience! \n\nJackie is the current Glastonbury Festival Poetry Slam champion; also Torbay Slam\, Plymouth Literary Festival Slam\, and won Green Gathering Slam in 2016. She competed at the Albert Hall in the National Poetry Slam Finals in 2018.\nwww.jackiejuno.com\nSee her perform Oxygenerators\, her love poem for Trees – https://www.youtube.com/watch?v=MOd2zivGUgc&feature=youtu.be\n \n“Totally brilliant\, wonderful\, funny\, heart wrenching\, uplifting in equal measure. So glad you be-witch us!” audience member\, Chagford\, December 2017 \n“Enthralling. This was such a magical night full of wonder\, adventure and stories. AMAZING.” Barnstaple audience member \n“A fabulous evening. Thank you Jackie. What a brilliant way to spend the Solstice!” Barnstaple audience member \n 
URL:https://dragonsanctuary.co.uk/event/spellbound/
CATEGORIES:Performances
ATTACH;FMTTYPE=image/jpeg:https://dragonsanctuary.co.uk/wp-content/uploads/2018/09/Spellbound-lo-res.jpg
ORGANIZER;CN="Jackie Juno":MAILTO:jackiejuno@yahoo.co.uk
END:VEVENT
END:VCALENDAR