BEGIN:VCALENDAR
VERSION:2.0
PRODID:-//The Dragon Sanctuary - ECPv6.15.20//NONSGML v1.0//EN
CALSCALE:GREGORIAN
METHOD:PUBLISH
X-ORIGINAL-URL:https://dragonsanctuary.co.uk
X-WR-CALDESC:Events for The Dragon Sanctuary
REFRESH-INTERVAL;VALUE=DURATION:PT1H
X-Robots-Tag:noindex
X-PUBLISHED-TTL:PT1H
BEGIN:VTIMEZONE
TZID:Europe/London
BEGIN:DAYLIGHT
TZOFFSETFROM:+0000
TZOFFSETTO:+0100
TZNAME:BST
DTSTART:20170326T010000
END:DAYLIGHT
BEGIN:STANDARD
TZOFFSETFROM:+0100
TZOFFSETTO:+0000
TZNAME:GMT
DTSTART:20171029T010000
END:STANDARD
BEGIN:DAYLIGHT
TZOFFSETFROM:+0000
TZOFFSETTO:+0100
TZNAME:BST
DTSTART:20180325T010000
END:DAYLIGHT
BEGIN:STANDARD
TZOFFSETFROM:+0100
TZOFFSETTO:+0000
TZNAME:GMT
DTSTART:20181028T010000
END:STANDARD
BEGIN:DAYLIGHT
TZOFFSETFROM:+0000
TZOFFSETTO:+0100
TZNAME:BST
DTSTART:20190331T010000
END:DAYLIGHT
BEGIN:STANDARD
TZOFFSETFROM:+0100
TZOFFSETTO:+0000
TZNAME:GMT
DTSTART:20191027T010000
END:STANDARD
END:VTIMEZONE
BEGIN:VEVENT
DTSTART;TZID=Europe/London:20181030T120000
DTEND;TZID=Europe/London:20181113T170000
DTSTAMP:20260424T212533
CREATED:20181011T141451Z
LAST-MODIFIED:20181011T141451Z
UID:10000115-1540900800-1542128400@dragonsanctuary.co.uk
SUMMARY:Wildness Tempered by Love
DESCRIPTION:An Exhibition of paintings by Abigail Robinson and Kate Coombs\, expressing a time spent together at Blackpool sands. It explores in colour and ink\, feelings in response to the wild sea and the edge of the land. It records a time when the cancer diagnosis became real for Abigail and she struggled with all the major decisions she had to face.  It will also be a launch of ‘The Lightening Tree’  Poetry by Abigail Robinson. \n‘Art days with Abigail are a shared experience of soulful conversation\, painting and tea!  Returning home to ourselves supported by the vastness and drama of the sea and the containment of the land and the expressions of our hearts in the connection with each other.’  Kate \n‘Images are a documentation of sacred relationship. A dancing conversation with the freedom of the sea. Created within a soul space.  An alchemical vessel holding the liminal. Out of every day time\, yet coexisting with both light and profound human relating. That which is wild\, tempered by love. \nPoetry is an attempt to find the wholeness that exists beyond wounding and death. The living being that is sustained in spite of\, and grown around\, violation. The lightening tree is both a reality and a metaphor for where the world of the living meets the world of the dead.’  Abigail \n 
URL:https://dragonsanctuary.co.uk/event/wildness-tempered-by-love/
CATEGORIES:Exhibitions
ATTACH;FMTTYPE=image/jpeg:https://dragonsanctuary.co.uk/wp-content/uploads/2018/10/20170928_141010-2.jpg
ORGANIZER;CN="Kate Coombs":MAILTO:katemcoombs@gmail.com
END:VEVENT
END:VCALENDAR