BEGIN:VCALENDAR
VERSION:2.0
PRODID:-//The Dragon Sanctuary - ECPv6.15.20//NONSGML v1.0//EN
CALSCALE:GREGORIAN
METHOD:PUBLISH
X-ORIGINAL-URL:https://dragonsanctuary.co.uk
X-WR-CALDESC:Events for The Dragon Sanctuary
REFRESH-INTERVAL;VALUE=DURATION:PT1H
X-Robots-Tag:noindex
X-PUBLISHED-TTL:PT1H
BEGIN:VTIMEZONE
TZID:Europe/London
BEGIN:DAYLIGHT
TZOFFSETFROM:+0000
TZOFFSETTO:+0100
TZNAME:BST
DTSTART:20180325T010000
END:DAYLIGHT
BEGIN:STANDARD
TZOFFSETFROM:+0100
TZOFFSETTO:+0000
TZNAME:GMT
DTSTART:20181028T010000
END:STANDARD
BEGIN:DAYLIGHT
TZOFFSETFROM:+0000
TZOFFSETTO:+0100
TZNAME:BST
DTSTART:20190331T010000
END:DAYLIGHT
BEGIN:STANDARD
TZOFFSETFROM:+0100
TZOFFSETTO:+0000
TZNAME:GMT
DTSTART:20191027T010000
END:STANDARD
BEGIN:DAYLIGHT
TZOFFSETFROM:+0000
TZOFFSETTO:+0100
TZNAME:BST
DTSTART:20200329T010000
END:DAYLIGHT
BEGIN:STANDARD
TZOFFSETFROM:+0100
TZOFFSETTO:+0000
TZNAME:GMT
DTSTART:20201025T010000
END:STANDARD
END:VTIMEZONE
BEGIN:VEVENT
DTSTART;TZID=Europe/London:20190510T133000
DTEND;TZID=Europe/London:20190510T150000
DTSTAMP:20260424T170733
CREATED:20190503T104238Z
LAST-MODIFIED:20190503T104341Z
UID:10000173-1557495000-1557500400@dragonsanctuary.co.uk
SUMMARY:Free baby massage classes
DESCRIPTION:Come and learn how to massage your baby in this warm and supportive class with Mary Beattie\, trainer and instructor with the international association of Infant Massage (www.iaim.net) (babyandchildmassage.co.uk). \nMay help\nSleep\nBonding\nColic\n\nMeet other parents.\n\nBabies can be newborn to 12 months old\n\nContact Mary to book a free place or to ask a question\, and of course there will be tea and biscuits.\nNote you can leave early to collect children from school if you need to.
URL:https://dragonsanctuary.co.uk/event/free-baby-massage-classes/2019-05-10/
CATEGORIES:Classes
ATTACH;FMTTYPE=image/jpeg:https://dragonsanctuary.co.uk/wp-content/uploads/2019/05/1477256060baby.jpg
ORGANIZER;CN="Mary Beattie":MAILTO:mary@babyandchildmassage.co.uk
END:VEVENT
END:VCALENDAR