BEGIN:VCALENDAR
VERSION:2.0
PRODID:-//The Dragon Sanctuary - ECPv6.15.20//NONSGML v1.0//EN
CALSCALE:GREGORIAN
METHOD:PUBLISH
X-ORIGINAL-URL:https://dragonsanctuary.co.uk
X-WR-CALDESC:Events for The Dragon Sanctuary
REFRESH-INTERVAL;VALUE=DURATION:PT1H
X-Robots-Tag:noindex
X-PUBLISHED-TTL:PT1H
BEGIN:VTIMEZONE
TZID:Europe/London
BEGIN:DAYLIGHT
TZOFFSETFROM:+0000
TZOFFSETTO:+0100
TZNAME:BST
DTSTART:20180325T010000
END:DAYLIGHT
BEGIN:STANDARD
TZOFFSETFROM:+0100
TZOFFSETTO:+0000
TZNAME:GMT
DTSTART:20181028T010000
END:STANDARD
BEGIN:DAYLIGHT
TZOFFSETFROM:+0000
TZOFFSETTO:+0100
TZNAME:BST
DTSTART:20190331T010000
END:DAYLIGHT
BEGIN:STANDARD
TZOFFSETFROM:+0100
TZOFFSETTO:+0000
TZNAME:GMT
DTSTART:20191027T010000
END:STANDARD
BEGIN:DAYLIGHT
TZOFFSETFROM:+0000
TZOFFSETTO:+0100
TZNAME:BST
DTSTART:20200329T010000
END:DAYLIGHT
BEGIN:STANDARD
TZOFFSETFROM:+0100
TZOFFSETTO:+0000
TZNAME:GMT
DTSTART:20201025T010000
END:STANDARD
END:VTIMEZONE
BEGIN:VEVENT
DTSTART;TZID=Europe/London:20190504T120000
DTEND;TZID=Europe/London:20190504T170000
DTSTAMP:20260424T181748
CREATED:20190425T175953Z
LAST-MODIFIED:20190425T180922Z
UID:10000171-1556971200-1556989200@dragonsanctuary.co.uk
SUMMARY:1 Day Guitar Workshop for Absolute Beginners (or those who've tried before)
DESCRIPTION:Does this sound like you?… \n\nYou’ve tried guitar before but quit?\nYou struggle with chords?\nYou’ve always wanted to learn but believe you’re not musical\nOr…you’re an absolute beginner and want to get started the right way?\n\n\n\n\nI’ve been teaching guitar to adult beginners for over 20 years. Over that time I developed a method (The Easiest Guitar Method) specifically designed for adults who struggle or have never picked up the instrument but always wanted to. \nMy basic premise is that all humans are musical (I can even prove this!) and have the right to express themselves musically. \n\nIn this one day workshop I will show you: \n\nthe absolute beginner guitar basics you need to get started\nhow to play at least 3 easy\, great sounding pieces of music that you’ll be able to play from memory\nbuilding blocks towards playing several chords (and overcome any difficulties with them)\nhow to read basic guitar music (tablature) and chord diagrams\nhow learning a few simple notes will allow you to jam with others\n\nLooking forward to seeing you! \n\nNote: please be aware that spaces are limited so please book ahead via email or phone: mick@easiestguitar.com\n\n\n07402 707 056\n\n\n \n\n\nBest wishes \n\n\nMick Young\n\n\n\nNice things people say about the method: \nMick’s teaching style is so nice and thorough. It really takes the frustration out of it when he explains each tiny step. The songs are so good! \nKate McMahon Aged 37\, Australia \n\n“It’s the 1st time I actually feel like I’m playing something. Thank you.” \nJohn SeaverAged 61\, Australia \n\n“Your course rekindled my enthusiasm after hitting that “no progress” point. I’ve improved more in the last 3 weeks using your system than the previous 9 months when I first started. Thanks Mick”. \nMike Avenell\, aged 70\, UK \n  \n  \n  \n  \n  \n\n\n\n 
URL:https://dragonsanctuary.co.uk/event/1-day-guitar-workshop-for-absolute-beginners-or-those-whove-tried-before/
ATTACH;FMTTYPE=image/jpeg:https://dragonsanctuary.co.uk/wp-content/uploads/2019/04/guitar.grass_.jpg
ORGANIZER;CN="Mick Young":MAILTO:mick@easiestguitar.com
END:VEVENT
END:VCALENDAR