BEGIN:VCALENDAR
VERSION:2.0
PRODID:-//The Dragon Sanctuary - ECPv6.15.20//NONSGML v1.0//EN
CALSCALE:GREGORIAN
METHOD:PUBLISH
X-ORIGINAL-URL:https://dragonsanctuary.co.uk
X-WR-CALDESC:Events for The Dragon Sanctuary
REFRESH-INTERVAL;VALUE=DURATION:PT1H
X-Robots-Tag:noindex
X-PUBLISHED-TTL:PT1H
BEGIN:VTIMEZONE
TZID:Europe/London
BEGIN:DAYLIGHT
TZOFFSETFROM:+0000
TZOFFSETTO:+0100
TZNAME:BST
DTSTART:20180325T010000
END:DAYLIGHT
BEGIN:STANDARD
TZOFFSETFROM:+0100
TZOFFSETTO:+0000
TZNAME:GMT
DTSTART:20181028T010000
END:STANDARD
BEGIN:DAYLIGHT
TZOFFSETFROM:+0000
TZOFFSETTO:+0100
TZNAME:BST
DTSTART:20190331T010000
END:DAYLIGHT
BEGIN:STANDARD
TZOFFSETFROM:+0100
TZOFFSETTO:+0000
TZNAME:GMT
DTSTART:20191027T010000
END:STANDARD
BEGIN:DAYLIGHT
TZOFFSETFROM:+0000
TZOFFSETTO:+0100
TZNAME:BST
DTSTART:20200329T010000
END:DAYLIGHT
BEGIN:STANDARD
TZOFFSETFROM:+0100
TZOFFSETTO:+0000
TZNAME:GMT
DTSTART:20201025T010000
END:STANDARD
BEGIN:DAYLIGHT
TZOFFSETFROM:+0000
TZOFFSETTO:+0100
TZNAME:BST
DTSTART:20210328T010000
END:DAYLIGHT
BEGIN:STANDARD
TZOFFSETFROM:+0100
TZOFFSETTO:+0000
TZNAME:GMT
DTSTART:20211031T010000
END:STANDARD
END:VTIMEZONE
BEGIN:VEVENT
DTSTART;TZID=Europe/London:20200303T193000
DTEND;TZID=Europe/London:20200303T213000
DTSTAMP:20260424T152817
CREATED:20200123T182110Z
LAST-MODIFIED:20200123T182110Z
UID:10000269-1583263800-1583271000@dragonsanctuary.co.uk
SUMMARY:Satsang with Prajna
DESCRIPTION:We are hosting an evening Satsang with Prajna:\nDo you wonder what it would be like to live without the interpretations of mind? \n• Dive deep into your heart—the truth of you\n• Clarify the most important thing on the trajectory of your life\n• Discern what is yours and what is not\n• Dialogue on anything that wants support on your healing and liberation journey. \nJoin Prajna for inspired and relaxed conversation\, light-hearted humor\, guided and silent meditation and pointers for living awake.\nLearn more about events with Prajna at:\nwww.awakeningprajna.com/satsang-meetings \nPrajna’s Youtube channel: https://www.youtube.com/c/AwakeningPrajna \nPrajna Ginty\, MA. Mystic\, Shamanic Practitioner\, Hakomi Therapist\, Spiritual Mentor and author Edge of Grace\, A Fierce Awakening to Love. Prajna’s journey raising her twin daughters with disabilities continues to illuminate life’s spiritual and deeply human dimensions. She offers a rare fusion of non-dual mysticism\, somatic therapy\, and plant medicine. Prajna’s popular retreats catalyze the healing and integration of traumatic experiences empowering you to live as love. Prajna was an early student of Adyashanti and lives with her family in Santa Cruz\, CA. \nSPACE IS LIMITED\, SO YOU WILL NEED TO BOOK.\nCost is £15/£12 concessions\nCONTACT: Rachael Thomas by phone: 07846453047\nEMAIL: rachaelthomas.456@gmail.com
URL:https://dragonsanctuary.co.uk/event/satsang-with-prajna-2/
CATEGORIES:Talks and Gatherings
ATTACH;FMTTYPE=image/jpeg:https://dragonsanctuary.co.uk/wp-content/uploads/2020/01/parjna-satsang.jpg
ORGANIZER;CN="Rachel Thomas":MAILTO:rachaelthomas.456@gmail.com
END:VEVENT
BEGIN:VEVENT
DTSTART;TZID=Europe/London:20190218T193000
DTEND;TZID=Europe/London:20190218T213000
DTSTAMP:20260424T152818
CREATED:20190121T190319Z
LAST-MODIFIED:20190121T190319Z
UID:10000146-1550518200-1550525400@dragonsanctuary.co.uk
SUMMARY:Satsang with Prajna
DESCRIPTION:Prajna welcomes everyone and everything to these open meetings\, referred to as  “satsang”. A warm welcome to be\, without pretense; to give full allowance for everything that arises in you\, light and dark. \nIn doing so\, what is unconscious becomes conscious. Awareness remains. As the content of mind/emotions empty into the wider context of you\, liberation unfolds naturally\, and uniquely for each person. You do not lack anything to realize your completeness. Inquiry\, contemplation\, and a stillness practice of “allowing everything to be as it is” — is a doorway to ‘direct knowing’ — ‘prajna’ — and embodying your wholeness. \nPrajna will begin with a guided meditation to silence followed by an open conversation on a particular aspect of awakening\, integration and embodiment. \nPrajna is here from California and is a spiritual teacher\, therapist\, and mother of three children\, Prajna is known for her depth of presence and welcoming every part of who we are to liberation. Inspired by her root teacher\, Adyashanti – her teachings are practical\, non-dogmatic and elicit the direct knowing of who we are amidst hardship and beauty. \nSpace is limited so please book – contact  Rachael at rachaelthomas.456@gmail.com or Tel 07846453047 . Please bring a cushion to sit on!
URL:https://dragonsanctuary.co.uk/event/satsang-with-prajna/
CATEGORIES:Talks and Gatherings
ATTACH;FMTTYPE=image/jpeg:https://dragonsanctuary.co.uk/wp-content/uploads/2019/01/Prajna-for-publicity.jpg
ORGANIZER;CN="Rachel Thomas":MAILTO:rachaelthomas.456@gmail.com
END:VEVENT
END:VCALENDAR