BEGIN:VCALENDAR
VERSION:2.0
PRODID:-//The Dragon Sanctuary - ECPv6.15.20//NONSGML v1.0//EN
CALSCALE:GREGORIAN
METHOD:PUBLISH
X-WR-CALNAME:The Dragon Sanctuary
X-ORIGINAL-URL:https://dragonsanctuary.co.uk
X-WR-CALDESC:Events for The Dragon Sanctuary
REFRESH-INTERVAL;VALUE=DURATION:PT1H
X-Robots-Tag:noindex
X-PUBLISHED-TTL:PT1H
BEGIN:VTIMEZONE
TZID:Europe/London
BEGIN:DAYLIGHT
TZOFFSETFROM:+0000
TZOFFSETTO:+0100
TZNAME:BST
DTSTART:20200329T010000
END:DAYLIGHT
BEGIN:STANDARD
TZOFFSETFROM:+0100
TZOFFSETTO:+0000
TZNAME:GMT
DTSTART:20201025T010000
END:STANDARD
BEGIN:DAYLIGHT
TZOFFSETFROM:+0000
TZOFFSETTO:+0100
TZNAME:BST
DTSTART:20210328T010000
END:DAYLIGHT
BEGIN:STANDARD
TZOFFSETFROM:+0100
TZOFFSETTO:+0000
TZNAME:GMT
DTSTART:20211031T010000
END:STANDARD
BEGIN:DAYLIGHT
TZOFFSETFROM:+0000
TZOFFSETTO:+0100
TZNAME:BST
DTSTART:20220327T010000
END:DAYLIGHT
BEGIN:STANDARD
TZOFFSETFROM:+0100
TZOFFSETTO:+0000
TZNAME:GMT
DTSTART:20221030T010000
END:STANDARD
END:VTIMEZONE
BEGIN:VEVENT
DTSTART;TZID=Europe/London:20211120T193000
DTEND;TZID=Europe/London:20211120T220000
DTSTAMP:20260424T134718
CREATED:20211015T215122Z
LAST-MODIFIED:20211028T212810Z
UID:10000284-1637436600-1637445600@dragonsanctuary.co.uk
SUMMARY:Rob Carney LIVE
DESCRIPTION:An intimate evening of original songs and harmony singing by local singer-songwriter/choir leader Rob Carney. \nRob is doing a series of local gigs in November to promote his indiegogo crowdfunder for realising his lifelong dream of creating his first album. Proceeds from tonight’s event will go to the production of the album! \nDoors open at 7pm\, concert starts at 7.30pm. \nTickets here \nLISTEN: \nYou can listen to a couple of Rob’s songs here: \n“The ground I walk”  https://soundcloud.com/robcarneysong/the-ground-i-walk?si=f76c040e936343c0874d5f4575b15be0 \n“Rags to Robes” https://soundcloud.com/robcarneysong/rags-to-robes-1/s-iraeHLHPdrF?si=d48f2bc2539e44ffa9e65391a15fb0fd \n“I Depend On You” https://vimeo.com/634773693 \nVIDEOS: \nWatch a video of Rob’s band rehearsing “Love me like you used to do” for the album here: https://vimeo.com/518562859
URL:https://dragonsanctuary.co.uk/event/rob-carney-live/
LOCATION:The Dragon Sanctuary\, 34 Bossell Road\, Buckfastleigh\, Devon\, TQ11 0DD\, United Kingdom
CATEGORIES:Performances,Singing Events
ATTACH;FMTTYPE=image/png:https://dragonsanctuary.co.uk/wp-content/uploads/2021/10/Rob-Carney-Dragon-Sanctuary-gig-image.png
ORGANIZER;CN="Rob Carney Song":MAILTO:robcarneysong@gmail.com
GEO:50.4803699;-3.7806423
X-APPLE-STRUCTURED-LOCATION;VALUE=URI;X-ADDRESS=The Dragon Sanctuary 34 Bossell Road Buckfastleigh Devon TQ11 0DD United Kingdom;X-APPLE-RADIUS=500;X-TITLE=34 Bossell Road:geo:-3.7806423,50.4803699
END:VEVENT
END:VCALENDAR