BEGIN:VCALENDAR
VERSION:2.0
PRODID:-//The Dragon Sanctuary - ECPv6.15.20//NONSGML v1.0//EN
CALSCALE:GREGORIAN
METHOD:PUBLISH
X-WR-CALNAME:The Dragon Sanctuary
X-ORIGINAL-URL:https://dragonsanctuary.co.uk
X-WR-CALDESC:Events for The Dragon Sanctuary
REFRESH-INTERVAL;VALUE=DURATION:PT1H
X-Robots-Tag:noindex
X-PUBLISHED-TTL:PT1H
BEGIN:VTIMEZONE
TZID:Europe/London
BEGIN:DAYLIGHT
TZOFFSETFROM:+0000
TZOFFSETTO:+0100
TZNAME:BST
DTSTART:20170326T010000
END:DAYLIGHT
BEGIN:STANDARD
TZOFFSETFROM:+0100
TZOFFSETTO:+0000
TZNAME:GMT
DTSTART:20171029T010000
END:STANDARD
BEGIN:DAYLIGHT
TZOFFSETFROM:+0000
TZOFFSETTO:+0100
TZNAME:BST
DTSTART:20180325T010000
END:DAYLIGHT
BEGIN:STANDARD
TZOFFSETFROM:+0100
TZOFFSETTO:+0000
TZNAME:GMT
DTSTART:20181028T010000
END:STANDARD
BEGIN:DAYLIGHT
TZOFFSETFROM:+0000
TZOFFSETTO:+0100
TZNAME:BST
DTSTART:20190331T010000
END:DAYLIGHT
BEGIN:STANDARD
TZOFFSETFROM:+0100
TZOFFSETTO:+0000
TZNAME:GMT
DTSTART:20191027T010000
END:STANDARD
BEGIN:DAYLIGHT
TZOFFSETFROM:+0000
TZOFFSETTO:+0100
TZNAME:BST
DTSTART:20200329T010000
END:DAYLIGHT
BEGIN:STANDARD
TZOFFSETFROM:+0100
TZOFFSETTO:+0000
TZNAME:GMT
DTSTART:20201025T010000
END:STANDARD
END:VTIMEZONE
BEGIN:VEVENT
DTSTART;TZID=Europe/London:20191004T190000
DTEND;TZID=Europe/London:20191006T170000
DTSTAMP:20260424T164408
CREATED:20190130T124900Z
LAST-MODIFIED:20190909T153039Z
UID:10000148-1570215600-1570381200@dragonsanctuary.co.uk
SUMMARY:The Bright Path Ishayas' Ascension Weekend Course
DESCRIPTION:Ascension is a simple and gentle meditation practice that helps you go beyond the limitations of your mind. There you will find an inexhaustible source of peace\, love and joy that can change how you experience your life. \nA regular practice of ascension can relieve stress\, deepen sleep\, improve performance and help you see your life from a larger perspective\, allowing you to connect to more meaning\, purpose and fulfillment. \nDo get in touch if you have any queries\, we’re happy to speak more about this practice\, in person or over the phone. Sundara’s details are below. \nHere is more information about the course. For more detailed information see The Bright Path website:  www.thebrightpath.com. \nDuring ‘The First Sphere’ you will learn four techniques called Ascension Attitudes\, which are based on Praise\, Gratitude and Love. They are effortless to use\, yet powerful to practice. Like the thousands of people who have already learned\, we are sure you will find The First Sphere course to be simple\, relaxing and fun. \nThe First Sphere courses generally happen over a weekend; from a Friday evening to a Sunday afternoon. By the end of the course you will have everything you need for a self-sufficient practice that will enhance all areas of your life. As an added bonus\, once you have completed The First Sphere course\, you are welcome\, and encouraged\, to repeat it as often as you wish\, for FREE! \nThis venue is fully wheelchair accessible.
URL:https://dragonsanctuary.co.uk/event/the-bright-path-ishayas-ascension-weekend-course/
LOCATION:The Dragon Sanctuary\, 34 Bossell Road\, Buckfastleigh\, Devon\, TQ11 0DD\, United Kingdom
ATTACH;FMTTYPE=image/jpeg:https://dragonsanctuary.co.uk/wp-content/uploads/2019/01/Feb-March-2019-for-JF-and-BP-website-copy.jpg
ORGANIZER;CN="Sundara Sofer":MAILTO:info@jellyfishartshub.co.uk
GEO:50.4803699;-3.7806423
X-APPLE-STRUCTURED-LOCATION;VALUE=URI;X-ADDRESS=The Dragon Sanctuary 34 Bossell Road Buckfastleigh Devon TQ11 0DD United Kingdom;X-APPLE-RADIUS=500;X-TITLE=34 Bossell Road:geo:-3.7806423,50.4803699
END:VEVENT
BEGIN:VEVENT
DTSTART;TZID=Europe/London:20190924T193000
DTEND;TZID=Europe/London:20190924T210000
DTSTAMP:20260424T164408
CREATED:20190823T140452Z
LAST-MODIFIED:20190911T164100Z
UID:10000183-1569353400-1569358800@dragonsanctuary.co.uk
SUMMARY:Kirtan
DESCRIPTION:NOTE LATER START-TIME! (7.30pm not 7pm as previously) \nAccompanied by harmonium and guitar\, we will sing Indian devotional chants based on simple mantras. \nNo prior experience is necessary. \nWith Sundara and Leo Sofer.
URL:https://dragonsanctuary.co.uk/event/kirtan-7/
CATEGORIES:Singing Events
ATTACH;FMTTYPE=image/jpeg:https://dragonsanctuary.co.uk/wp-content/uploads/2019/02/Saraswati-small.jpg
ORGANIZER;CN="Sundara Sofer":MAILTO:info@jellyfishartshub.co.uk
END:VEVENT
BEGIN:VEVENT
DTSTART;TZID=Europe/London:20190919T180000
DTEND;TZID=Europe/London:20190919T193000
DTSTAMP:20260424T164408
CREATED:20180625T144033Z
LAST-MODIFIED:20190911T164607Z
UID:10000111-1568916000-1568921400@dragonsanctuary.co.uk
SUMMARY:Introduction to Ascension Meditation
DESCRIPTION:A free talk with Valmiki and Sundara \nAscension requires no belief and is not a religion\, but it is a beautiful\, effective and simple practice that can reconnect us with the peace and stillness within. \nAll of us want more peace\, harmony\, happiness\, fulfillment\, joy\, purpose\, love and understanding. The problem is that we tend to look for these things outside of ourselves. This search leaves us with a sense that we are never doing enough\, never reaching fulfilment. But when we recognise that these qualities reside inside\, we can more effectively direct our efforts there. A regular meditation practice has been proven to improve health\, relationships\, effectiveness  at work\, and to reduce stress. It’s one of the most efficient investments of your time you can make.
URL:https://dragonsanctuary.co.uk/event/introduction-to-ascension-meditation/
CATEGORIES:Talks and Gatherings
ATTACH;FMTTYPE=image/jpeg:https://dragonsanctuary.co.uk/wp-content/uploads/2018/06/IMG_1393.jpg
ORGANIZER;CN="Sundara Sofer":MAILTO:info@jellyfishartshub.co.uk
END:VEVENT
BEGIN:VEVENT
DTSTART;TZID=Europe/London:20190421T190000
DTEND;TZID=Europe/London:20190421T203000
DTSTAMP:20260424T164408
CREATED:20190326T190434Z
LAST-MODIFIED:20190326T191816Z
UID:10000160-1555873200-1555878600@dragonsanctuary.co.uk
SUMMARY:Taize Singing
DESCRIPTION:We’ll sing the simple and beautiful songs from Taizé\, a Christian monastery in France. With Leo and Sundara Sofer who led Taizé singing in the Findhorn community.
URL:https://dragonsanctuary.co.uk/event/taize-singing-5/
CATEGORIES:Singing Events
ATTACH;FMTTYPE=image/jpeg:https://dragonsanctuary.co.uk/wp-content/uploads/2019/03/Angel-with-lute-1s.jpg
ORGANIZER;CN="Sundara Sofer":MAILTO:info@jellyfishartshub.co.uk
END:VEVENT
BEGIN:VEVENT
DTSTART;TZID=Europe/London:20190407T190000
DTEND;TZID=Europe/London:20190407T203000
DTSTAMP:20260424T164408
CREATED:20190326T190527Z
LAST-MODIFIED:20190326T191830Z
UID:10000162-1554663600-1554669000@dragonsanctuary.co.uk
SUMMARY:Sunday Singing Sanctuary
DESCRIPTION:A monthly community singing event\, with different teachers each month. Come and sing heart-felt songs from sacred traditions around the world. With Fran Andre \n£7 (£5 concessions)
URL:https://dragonsanctuary.co.uk/event/sunday-singing-sanctuary-4/
CATEGORIES:Singing Events
ATTACH;FMTTYPE=image/jpeg:https://dragonsanctuary.co.uk/wp-content/uploads/2019/03/Sunday-Singing-Sanctuary-2s.jpg
ORGANIZER;CN="Sundara Sofer":MAILTO:info@jellyfishartshub.co.uk
END:VEVENT
BEGIN:VEVENT
DTSTART;TZID=Europe/London:20180810T190000
DTEND;TZID=Europe/London:20180812T170000
DTSTAMP:20260424T164408
CREATED:20180718T103715Z
LAST-MODIFIED:20180718T104716Z
UID:10000124-1533927600-1534093200@dragonsanctuary.co.uk
SUMMARY:First Sphere - Weekend Meditation Training
DESCRIPTION:Ascension is an easy meditation technique for experiencing life beyond limitation. It bring you to a direct experience of peace\, happiness and freedom. It involves no belief and can be easily practiced by anyone of any age or cultural background. \nThe Bright Path Ishayas’ Ascension is for anyone seeking inner peace\, happiness\, freedom from stress\, and a living experience of love\, presence and oneness. \n‘Ishaya’ is a Sanskrit word that means ‘For Higher Consciousness’. The Ishayas are devoted to experiencing\, and helping others experience\, higher states of human consciousness. \nMost of us only know ourselves as a bundle of thoughts\, beliefs\, opinions and judgments. These are the source of all of our stress\, limitations\, problems and suffering. \nBeyond the constant chatter of the surface of the mind\, is an endless wellspring of Peace\, Joy\, Creativity and Freedom. Ascension is a tool to help you access these wonderful states as a direct\, living experience. This Teaching offers a very rare opportunity to experience what it means to be truly alive. \nCost £200. To book contact Chandrama on 07805 933710. For more information about Ascension see www.thebrightpath.com
URL:https://dragonsanctuary.co.uk/event/first-sphere/
CATEGORIES:Classes
ATTACH;FMTTYPE=image/jpeg:https://dragonsanctuary.co.uk/wp-content/uploads/2018/07/387950548.jpg
ORGANIZER;CN="Sundara Sofer":MAILTO:info@jellyfishartshub.co.uk
END:VEVENT
BEGIN:VEVENT
DTSTART;TZID=Europe/London:20180505T130000
DTEND;TZID=Europe/London:20180601T180000
DTSTAMP:20260424T164408
CREATED:20180429T092046Z
LAST-MODIFIED:20180503T083253Z
UID:10000095-1525525200-1527876000@dragonsanctuary.co.uk
SUMMARY:WHAT SHALL WE DO TOMORROW?
DESCRIPTION:Glad works figuratively\, often from photographs or found images\, using disrupted surfaces and textures built up with oil paint\, sand\, pebbles\, varnish\, graphite and other materials. His work includes landscape\, portraiture and abstraction and his themes range from personal biographic subject matter to current political and world news stories. Come and see! \nGlad writes: “The work in this exhibition\, ‘What shall we do tomorrow’\, explores how we live with images both worn out and potent. I am at once driven by an amnesic compulsion (a drive towards loss and annihilation of memory) to archive and aestheticise images\, while equally coveting their ability to prick\, puncture and cut through the dispassionate collecting\, which can yield moments of insight that extend knowledge. While painting\, I have authorship of this personal\, political\, ethical\, aesthetic and embodied experience. It occurs between archiving and forgetting\, between material and signification\, between interiority and exteriority. These re-acquaintances with images are critical to the formulation of ‘self’. \nGlad Fryer has been painting since he was a teenager. He has had a studio practice since 1998 and originally moved to Devon to do a Fine Art degree at Dartington College of Arts\, followed by a Phd in Painting completed in 2007. Since then\, he has been a University Lecturer in Fine Art and currently teaches on the Fine Art course in Falmouth. He has his studio in Buckfastleigh\, Devon\, where he lives with his partner and their children. Glad has exhibited his work in various solo and group shows in the UK and in Europe – more details on his website. www.gladfryer.co.uk \n  \n  \n 
URL:https://dragonsanctuary.co.uk/event/what-shall-we-do-tomorrow/
CATEGORIES:Exhibitions
ATTACH;FMTTYPE=image/jpeg:https://dragonsanctuary.co.uk/wp-content/uploads/2018/04/selfpotraitasadeadhareweb.jpg
ORGANIZER;CN="Sundara Sofer":MAILTO:info@jellyfishartshub.co.uk
END:VEVENT
BEGIN:VEVENT
DTSTART;TZID=Europe/London:20180504T190000
DTEND;TZID=Europe/London:20180504T220000
DTSTAMP:20260424T164408
CREATED:20180429T091837Z
LAST-MODIFIED:20180503T083351Z
UID:10000094-1525460400-1525471200@dragonsanctuary.co.uk
SUMMARY:Opening Event for Glad Fryer’s exhibition: What Shall We Do Tomorrow?
DESCRIPTION:Come to Glad’s opening event! Jellyfish have got their alcohol licence\, so you can enjoy a glass of wine too! \nFor more information about this exhibition see What Shall We Do Tomorrow?
URL:https://dragonsanctuary.co.uk/event/opening-event-for-glad-fryers-exhibition-what-shall-we-do-tomorrow/
CATEGORIES:Exhibitions,Opening Events
ATTACH;FMTTYPE=image/jpeg:https://dragonsanctuary.co.uk/wp-content/uploads/2018/04/jellyfish-posterweb.jpg
ORGANIZER;CN="Sundara Sofer":MAILTO:info@jellyfishartshub.co.uk
END:VEVENT
END:VCALENDAR