BEGIN:VCALENDAR
VERSION:2.0
PRODID:-//The Dragon Sanctuary - ECPv6.15.20//NONSGML v1.0//EN
CALSCALE:GREGORIAN
METHOD:PUBLISH
X-WR-CALNAME:The Dragon Sanctuary
X-ORIGINAL-URL:https://dragonsanctuary.co.uk
X-WR-CALDESC:Events for The Dragon Sanctuary
REFRESH-INTERVAL;VALUE=DURATION:PT1H
X-Robots-Tag:noindex
X-PUBLISHED-TTL:PT1H
BEGIN:VTIMEZONE
TZID:Europe/London
BEGIN:DAYLIGHT
TZOFFSETFROM:+0000
TZOFFSETTO:+0100
TZNAME:BST
DTSTART:20170326T010000
END:DAYLIGHT
BEGIN:STANDARD
TZOFFSETFROM:+0100
TZOFFSETTO:+0000
TZNAME:GMT
DTSTART:20171029T010000
END:STANDARD
BEGIN:DAYLIGHT
TZOFFSETFROM:+0000
TZOFFSETTO:+0100
TZNAME:BST
DTSTART:20180325T010000
END:DAYLIGHT
BEGIN:STANDARD
TZOFFSETFROM:+0100
TZOFFSETTO:+0000
TZNAME:GMT
DTSTART:20181028T010000
END:STANDARD
BEGIN:DAYLIGHT
TZOFFSETFROM:+0000
TZOFFSETTO:+0100
TZNAME:BST
DTSTART:20190331T010000
END:DAYLIGHT
BEGIN:STANDARD
TZOFFSETFROM:+0100
TZOFFSETTO:+0000
TZNAME:GMT
DTSTART:20191027T010000
END:STANDARD
END:VTIMEZONE
BEGIN:VEVENT
DTSTART;TZID=Europe/London:20180426T203000
DTEND;TZID=Europe/London:20180426T223000
DTSTAMP:20260424T212533
CREATED:20180419T192455Z
LAST-MODIFIED:20180425T175726Z
UID:10000087-1524774600-1524781800@dragonsanctuary.co.uk
SUMMARY:Cancelled - Mothiur Rahman –   The connection between Sufism\, Justice and the balancing of The Sacred Masculine and Feminine
DESCRIPTION:Unfortunately Mothiur has had to postpone his talk due to family circumstances. We haven’t fixed a new date yet. \nMothiur will speak about his exploration of how Sufism and the masculine and feminine energies can reshape new understandings of justice\, using his poetry as a vehicle for expressing some of the sentiments.  He is a member of the Mankind Project\, was “artist in resident” for a Sufi Conference in Kendall in 2017 that explored the Feminine and Masculine in balance\, and took part in a transnational law conference at Kings College in London on “Creating Justice for our Future” . He recently wrote a guest article for a series on The Feminine hosted at St Ethelburga’s Centre for Reconciliation & Peace in London called “Male Encounters with the Feminine”. \nMothiur is a lawyer by training and is setting up a practice called New Economy Law (https://www.neweconomylaw.org).
URL:https://dragonsanctuary.co.uk/event/mothiur-rahman-the-connection-between-sufism-justice-and-the-balancing-of-the-sacred-masculine-and-feminine/
CATEGORIES:Talks and Gatherings
ATTACH;FMTTYPE=image/jpeg:https://dragonsanctuary.co.uk/wp-content/uploads/2018/04/Mothiur.jpg
ORGANIZER;CN="The Seed":MAILTO:mapremlalitya@yahoo.co.uk
END:VEVENT
BEGIN:VEVENT
DTSTART;TZID=Europe/London:20180419T203000
DTEND;TZID=Europe/London:20180419T223000
DTSTAMP:20260424T212533
CREATED:20180415T064937Z
LAST-MODIFIED:20180415T064937Z
UID:10000088-1524169800-1524177000@dragonsanctuary.co.uk
SUMMARY:The man who found Perfect Joy -  Stories from the life of St Francis with Mark Bedford
DESCRIPTION:Stories from the early life of the most enduring of saints. St Francis has a lot to say to us in the 21st century. He speaks of our connection with the natural world\, about greed and materialism\, about the true nature of joy\, about finding a path in life and giving everything to that. Mark developed this performance after living near to Assisi for two years and being immersed in the stories and the message of St Francis. \nMark is a storyteller and performer. \nCost £3 including refreshments. Free to Seed Volunteers
URL:https://dragonsanctuary.co.uk/event/the-man-who-found-perfect-joy-stories-from-the-life-of-st-francis-with-mark-bedford/
CATEGORIES:Talks and Gatherings
ATTACH;FMTTYPE=image/jpeg:https://dragonsanctuary.co.uk/wp-content/uploads/2018/04/Mark-Bedford.jpeg
ORGANIZER;CN="The Seed":MAILTO:mapremlalitya@yahoo.co.uk
END:VEVENT
BEGIN:VEVENT
DTSTART;TZID=Europe/London:20180412T203000
DTEND;TZID=Europe/London:20180412T223000
DTSTAMP:20260424T212533
CREATED:20180407T081205Z
LAST-MODIFIED:20180407T081205Z
UID:10000089-1523565000-1523572200@dragonsanctuary.co.uk
SUMMARY:The Lost Art Of Listening with Mick Avis and Andrea Kitt
DESCRIPTION:As trained counsellors we both appreciate the feeling of being properly `listened to` and of doing the same for others. In this crazy competitive world it is so common to feel in communication combat \, struggling with conversation `power struggles.` \nJoin us in a supportive interactive group and rediscover the simple joy of communication.
URL:https://dragonsanctuary.co.uk/event/the-lost-art-of-listening-with-mick-avis-and-andrea-kitt/
CATEGORIES:Talks and Gatherings
ATTACH;FMTTYPE=image/jpeg:https://dragonsanctuary.co.uk/wp-content/uploads/2018/04/AndreaMick.jpg
ORGANIZER;CN="The Seed":MAILTO:mapremlalitya@yahoo.co.uk
END:VEVENT
BEGIN:VEVENT
DTSTART;TZID=Europe/London:20180405T203000
DTEND;TZID=Europe/London:20180405T223000
DTSTAMP:20260424T212533
CREATED:20180330T210008Z
LAST-MODIFIED:20180330T210008Z
UID:10000091-1522960200-1522967400@dragonsanctuary.co.uk
SUMMARY:Social reading – A talk with Sarah Hopkins
DESCRIPTION:What is it? Who reads? How does it work? Who is it for? What do you read?\nSocial reading is an old and new way of sharing the experience of literature. Sarah would like to tell you about it. \nSarah Hopkins loves literature and work in different health and community contexts as a trained shared reading facilitator. \nCost £3 incl refreshments. Free to Seed volunteers
URL:https://dragonsanctuary.co.uk/event/social-reading-a-talk-with-sarah-hopkins/
CATEGORIES:Talks and Gatherings
ORGANIZER;CN="The Seed":MAILTO:mapremlalitya@yahoo.co.uk
END:VEVENT
BEGIN:VEVENT
DTSTART;TZID=Europe/London:20180329T203000
DTEND;TZID=Europe/London:20180329T223000
DTSTAMP:20260424T212533
CREATED:20180324T132414Z
LAST-MODIFIED:20180324T132414Z
UID:10000093-1522355400-1522362600@dragonsanctuary.co.uk
SUMMARY:Tobias Kaye – The Spiral World in Ancient Ireland
DESCRIPTION:Megalithic depictions of life and cosmology \nWho were the Celts? How come their wisdom so closely reflected what we are working on now? What can their rock carvings tell us about existence that science missed? Why did they hide their carvings?\nTobias Kaye will explore motifs that run down history with insights into the bible and Steiner’s work from long before either were written. \nTobias was born on a B-D farm in Ireland and has lived in Devon for 35 years. He is known for the Sounding Bowls and has worked with a wide variety of teachings to gain understanding of the secrets within Steiner’s understanding of everyday lifes. \nCost £3 incl refreshments – Free for Seed Volunteers
URL:https://dragonsanctuary.co.uk/event/tobias-kaye-the-spiral-world-in-ancient-ireland/
ATTACH;FMTTYPE=image/jpeg:https://dragonsanctuary.co.uk/wp-content/uploads/2018/03/Outlook-1519300745.jpg
ORGANIZER;CN="The Seed":MAILTO:mapremlalitya@yahoo.co.uk
END:VEVENT
BEGIN:VEVENT
DTSTART;TZID=Europe/London:20180322T193000
DTEND;TZID=Europe/London:20180322T213000
DTSTAMP:20260424T212533
CREATED:20180319T063455Z
LAST-MODIFIED:20180319T063455Z
UID:10000045-1521747000-1521754200@dragonsanctuary.co.uk
SUMMARY:A talk with Teja Forest – Recovering the Wild Body
DESCRIPTION:An experiential journey using meditation and story to explore the connection between body\, wild and land. This will include some stories of meetings with wild animals\, a discussion of the process of attunement with the land\, and practices to facilitate this embodied intelligence. \nTeja Forest is currently settling into Devon after the past several years training extensively in the Buddhist tradition and learning from wilderness places (in monasteries\, as a monk and forest living). He is currently applying this knowledge in studies of trauma\, and work in the healing arts.
URL:https://dragonsanctuary.co.uk/event/a-talk-with-teja-forest-recovering-the-wild-body/
CATEGORIES:Talks and Gatherings
ATTACH;FMTTYPE=image/jpeg:https://dragonsanctuary.co.uk/wp-content/uploads/2018/03/Teja.jpg
ORGANIZER;CN="The Seed":MAILTO:mapremlalitya@yahoo.co.uk
END:VEVENT
END:VCALENDAR