BEGIN:VCALENDAR
VERSION:2.0
PRODID:-//The Dragon Sanctuary - ECPv6.15.20//NONSGML v1.0//EN
CALSCALE:GREGORIAN
METHOD:PUBLISH
X-WR-CALNAME:The Dragon Sanctuary
X-ORIGINAL-URL:https://dragonsanctuary.co.uk
X-WR-CALDESC:Events for The Dragon Sanctuary
REFRESH-INTERVAL;VALUE=DURATION:PT1H
X-Robots-Tag:noindex
X-PUBLISHED-TTL:PT1H
BEGIN:VTIMEZONE
TZID:Europe/London
BEGIN:DAYLIGHT
TZOFFSETFROM:+0000
TZOFFSETTO:+0100
TZNAME:BST
DTSTART:20190331T010000
END:DAYLIGHT
BEGIN:STANDARD
TZOFFSETFROM:+0100
TZOFFSETTO:+0000
TZNAME:GMT
DTSTART:20191027T010000
END:STANDARD
BEGIN:DAYLIGHT
TZOFFSETFROM:+0000
TZOFFSETTO:+0100
TZNAME:BST
DTSTART:20200329T010000
END:DAYLIGHT
BEGIN:STANDARD
TZOFFSETFROM:+0100
TZOFFSETTO:+0000
TZNAME:GMT
DTSTART:20201025T010000
END:STANDARD
BEGIN:DAYLIGHT
TZOFFSETFROM:+0000
TZOFFSETTO:+0100
TZNAME:BST
DTSTART:20210328T010000
END:DAYLIGHT
BEGIN:STANDARD
TZOFFSETFROM:+0100
TZOFFSETTO:+0000
TZNAME:GMT
DTSTART:20211031T010000
END:STANDARD
END:VTIMEZONE
BEGIN:VEVENT
DTSTART;TZID=Europe/London:20200611T193000
DTEND;TZID=Europe/London:20200611T203000
DTSTAMP:20260424T121030
CREATED:20200602T130045Z
LAST-MODIFIED:20200605T093810Z
UID:10000271-1591903800-1591907400@dragonsanctuary.co.uk
SUMMARY:How to Unlock Your Heart - online live stream
DESCRIPTION:Our hearts tend to get “locked” when we experience an overwhelming loss or hurt. In this locked state\, we don’t let ourselves receive all the love that the world wants to give us\, or allow all the love inside us to flow out into the world.  \nBut love wants to flow\, nonetheless. Sometimes life knocks so hard on the door that it becomes impossible to resist. Sometimes the love in us feels like it is bursting to be shared.  \nHow then to unlock our hearts? This is the question I posed my inner storyteller recently. In this live stream I’ll be sharing the story that came to me.  \nNote: Jellyfish is still closed to the public. This is an online event\, streamed live from Jellyfish. Click the link below to watch it online. \nWatch it on You Tube here. \n 
URL:https://dragonsanctuary.co.uk/event/how-to-unlock-your-heart/
LOCATION:Online\, United Kingdom
CATEGORIES:Performances
ATTACH;FMTTYPE=image/jpeg:https://dragonsanctuary.co.uk/wp-content/uploads/2020/06/Title-and-details.jpg
ORGANIZER;CN="Leo Sofer":MAILTO:info@dragonsanctuary.co.uk
END:VEVENT
END:VCALENDAR