BEGIN:VCALENDAR
VERSION:2.0
PRODID:-//The Dragon Sanctuary - ECPv6.15.20//NONSGML v1.0//EN
CALSCALE:GREGORIAN
METHOD:PUBLISH
X-WR-CALNAME:The Dragon Sanctuary
X-ORIGINAL-URL:https://dragonsanctuary.co.uk
X-WR-CALDESC:Events for The Dragon Sanctuary
REFRESH-INTERVAL;VALUE=DURATION:PT1H
X-Robots-Tag:noindex
X-PUBLISHED-TTL:PT1H
BEGIN:VTIMEZONE
TZID:Europe/London
BEGIN:DAYLIGHT
TZOFFSETFROM:+0000
TZOFFSETTO:+0100
TZNAME:BST
DTSTART:20170326T010000
END:DAYLIGHT
BEGIN:STANDARD
TZOFFSETFROM:+0100
TZOFFSETTO:+0000
TZNAME:GMT
DTSTART:20171029T010000
END:STANDARD
BEGIN:DAYLIGHT
TZOFFSETFROM:+0000
TZOFFSETTO:+0100
TZNAME:BST
DTSTART:20180325T010000
END:DAYLIGHT
BEGIN:STANDARD
TZOFFSETFROM:+0100
TZOFFSETTO:+0000
TZNAME:GMT
DTSTART:20181028T010000
END:STANDARD
BEGIN:DAYLIGHT
TZOFFSETFROM:+0000
TZOFFSETTO:+0100
TZNAME:BST
DTSTART:20190331T010000
END:DAYLIGHT
BEGIN:STANDARD
TZOFFSETFROM:+0100
TZOFFSETTO:+0000
TZNAME:GMT
DTSTART:20191027T010000
END:STANDARD
BEGIN:DAYLIGHT
TZOFFSETFROM:+0000
TZOFFSETTO:+0100
TZNAME:BST
DTSTART:20200329T010000
END:DAYLIGHT
BEGIN:STANDARD
TZOFFSETFROM:+0100
TZOFFSETTO:+0000
TZNAME:GMT
DTSTART:20201025T010000
END:STANDARD
END:VTIMEZONE
BEGIN:VEVENT
DTSTART;TZID=Europe/London:20191004T190000
DTEND;TZID=Europe/London:20191006T170000
DTSTAMP:20260424T183913
CREATED:20190130T124900Z
LAST-MODIFIED:20190909T153039Z
UID:10000148-1570215600-1570381200@dragonsanctuary.co.uk
SUMMARY:The Bright Path Ishayas' Ascension Weekend Course
DESCRIPTION:Ascension is a simple and gentle meditation practice that helps you go beyond the limitations of your mind. There you will find an inexhaustible source of peace\, love and joy that can change how you experience your life. \nA regular practice of ascension can relieve stress\, deepen sleep\, improve performance and help you see your life from a larger perspective\, allowing you to connect to more meaning\, purpose and fulfillment. \nDo get in touch if you have any queries\, we’re happy to speak more about this practice\, in person or over the phone. Sundara’s details are below. \nHere is more information about the course. For more detailed information see The Bright Path website:  www.thebrightpath.com. \nDuring ‘The First Sphere’ you will learn four techniques called Ascension Attitudes\, which are based on Praise\, Gratitude and Love. They are effortless to use\, yet powerful to practice. Like the thousands of people who have already learned\, we are sure you will find The First Sphere course to be simple\, relaxing and fun. \nThe First Sphere courses generally happen over a weekend; from a Friday evening to a Sunday afternoon. By the end of the course you will have everything you need for a self-sufficient practice that will enhance all areas of your life. As an added bonus\, once you have completed The First Sphere course\, you are welcome\, and encouraged\, to repeat it as often as you wish\, for FREE! \nThis venue is fully wheelchair accessible.
URL:https://dragonsanctuary.co.uk/event/the-bright-path-ishayas-ascension-weekend-course/
LOCATION:The Dragon Sanctuary\, 34 Bossell Road\, Buckfastleigh\, Devon\, TQ11 0DD\, United Kingdom
ATTACH;FMTTYPE=image/jpeg:https://dragonsanctuary.co.uk/wp-content/uploads/2019/01/Feb-March-2019-for-JF-and-BP-website-copy.jpg
ORGANIZER;CN="Sundara Sofer":MAILTO:info@jellyfishartshub.co.uk
GEO:50.4803699;-3.7806423
X-APPLE-STRUCTURED-LOCATION;VALUE=URI;X-ADDRESS=The Dragon Sanctuary 34 Bossell Road Buckfastleigh Devon TQ11 0DD United Kingdom;X-APPLE-RADIUS=500;X-TITLE=34 Bossell Road:geo:-3.7806423,50.4803699
END:VEVENT
BEGIN:VEVENT
DTSTART;TZID=Europe/London:20190611T190000
DTEND;TZID=Europe/London:20190611T203000
DTSTAMP:20260424T183913
CREATED:20190507T173546Z
LAST-MODIFIED:20190507T173546Z
UID:10000176-1560279600-1560285000@dragonsanctuary.co.uk
SUMMARY:Kirtan
DESCRIPTION:Accompanied by harmonium and guitar\, we will sing Indian devotional chants based on simple mantras. \nNo prior experience is necessary. \nWith Sundara and Leo Sofer.
URL:https://dragonsanctuary.co.uk/event/kirtan-4/
LOCATION:The Dragon Sanctuary\, 34 Bossell Road\, Buckfastleigh\, Devon\, TQ11 0DD\, United Kingdom
ATTACH;FMTTYPE=image/jpeg:https://dragonsanctuary.co.uk/wp-content/uploads/2019/02/Saraswati-small.jpg
GEO:50.4803699;-3.7806423
X-APPLE-STRUCTURED-LOCATION;VALUE=URI;X-ADDRESS=The Dragon Sanctuary 34 Bossell Road Buckfastleigh Devon TQ11 0DD United Kingdom;X-APPLE-RADIUS=500;X-TITLE=34 Bossell Road:geo:-3.7806423,50.4803699
END:VEVENT
BEGIN:VEVENT
DTSTART;TZID=Europe/London:20190602T190000
DTEND;TZID=Europe/London:20190602T203000
DTSTAMP:20260424T183913
CREATED:20190507T173658Z
LAST-MODIFIED:20190507T173658Z
UID:10000177-1559502000-1559507400@dragonsanctuary.co.uk
SUMMARY:Sunday Singing Sanctuary
DESCRIPTION:A monthly community singing event\, with different teachers each month. Come and sing heart-felt songs from sacred traditions around the world. With Emily Roblyn. \n£7 (£5 concessions)
URL:https://dragonsanctuary.co.uk/event/sunday-singing-sanctuary-6/
LOCATION:The Dragon Sanctuary\, 34 Bossell Road\, Buckfastleigh\, Devon\, TQ11 0DD\, United Kingdom
ATTACH;FMTTYPE=image/jpeg:https://dragonsanctuary.co.uk/wp-content/uploads/2019/03/Sunday-Singing-Sanctuary-2s.jpg
GEO:50.4803699;-3.7806423
X-APPLE-STRUCTURED-LOCATION;VALUE=URI;X-ADDRESS=The Dragon Sanctuary 34 Bossell Road Buckfastleigh Devon TQ11 0DD United Kingdom;X-APPLE-RADIUS=500;X-TITLE=34 Bossell Road:geo:-3.7806423,50.4803699
END:VEVENT
BEGIN:VEVENT
DTSTART;TZID=Europe/London:20190528T190000
DTEND;TZID=Europe/London:20190528T203000
DTSTAMP:20260424T183913
CREATED:20190507T173445Z
LAST-MODIFIED:20190507T173445Z
UID:10000175-1559070000-1559075400@dragonsanctuary.co.uk
SUMMARY:Kirtan
DESCRIPTION:Accompanied by harmonium and guitar\, we will sing Indian devotional chants based on simple mantras. No prior experience is necessary. With Leo and Sundara Sofer.
URL:https://dragonsanctuary.co.uk/event/kirtan-3/
LOCATION:The Dragon Sanctuary\, 34 Bossell Road\, Buckfastleigh\, Devon\, TQ11 0DD\, United Kingdom
ATTACH;FMTTYPE=image/jpeg:https://dragonsanctuary.co.uk/wp-content/uploads/2019/03/Saraswati-3-s.jpg
ORGANIZER;CN="Leo Sofer":MAILTO:info@dragonsanctuary.co.uk
GEO:50.4803699;-3.7806423
X-APPLE-STRUCTURED-LOCATION;VALUE=URI;X-ADDRESS=The Dragon Sanctuary 34 Bossell Road Buckfastleigh Devon TQ11 0DD United Kingdom;X-APPLE-RADIUS=500;X-TITLE=34 Bossell Road:geo:-3.7806423,50.4803699
END:VEVENT
BEGIN:VEVENT
DTSTART;TZID=Europe/London:20190426T190000
DTEND;TZID=Europe/London:20190426T203000
DTSTAMP:20260424T183913
CREATED:20190130T123532Z
LAST-MODIFIED:20190425T120541Z
UID:10000147-1556305200-1556310600@dragonsanctuary.co.uk
SUMMARY:An Introduction to Ascension
DESCRIPTION:Leo Sofer (Valmiki) will be sharing about his journey as a spiritual seeker from the age of 16. \n“After many years of development through nonviolent communication and intuitive storytelling\, I found ascension\, a practice rooted in the Vedic wisdom of ancient India\, but presented in a contemporary form that makes it more accessible to westerners. \nI’ve learned that our minds are the principle limiting factor in our experience of life. As we become more aware of our thinking process and start to see it as just one small corner of our total experience of life\, we can start to experience a fuller and richer tapestry of life. Learning that we are less “in control” of our lives than we thought is actually a very liberating thing! \nThis will be an informal talk in which I’ll share some of my own journey\, and the limitations that even being “emotionally aware” and “intuitive” can have. I’ll then talk about ascension and how it has given me the “gold” I was looking for all my life: an intimate sense of life\, love and meaning that continues to expand! I’ll also talk about how ascension works\, what the experience of ascending is like\, and how you can learn it. \nI’ll be teaching a weekend introduction to ascension in Jellyfish on 26-28th April. See here for more details.” \n 
URL:https://dragonsanctuary.co.uk/event/introduction-to-ascension-finding-the-gold/
LOCATION:The Dragon Sanctuary\, 34 Bossell Road\, Buckfastleigh\, Devon\, TQ11 0DD\, United Kingdom
ATTACH;FMTTYPE=image/jpeg:https://dragonsanctuary.co.uk/wp-content/uploads/2019/01/Feb-March-2019-for-JF-and-BP-website-copy.jpg
ORGANIZER;CN="Leo Sofer":MAILTO:info@dragonsanctuary.co.uk
GEO:50.4803699;-3.7806423
X-APPLE-STRUCTURED-LOCATION;VALUE=URI;X-ADDRESS=The Dragon Sanctuary 34 Bossell Road Buckfastleigh Devon TQ11 0DD United Kingdom;X-APPLE-RADIUS=500;X-TITLE=34 Bossell Road:geo:-3.7806423,50.4803699
END:VEVENT
BEGIN:VEVENT
DTSTART;TZID=Europe/London:20190417T123000
DTEND;TZID=Europe/London:20190417T160000
DTSTAMP:20260424T183913
CREATED:20190305T192130Z
LAST-MODIFIED:20221019T111723Z
UID:10000157-1555504200-1555516800@dragonsanctuary.co.uk
SUMMARY:Comic art drop in afternoon
DESCRIPTION:‘Bonding over Books in Buckfastleigh’ is a Big Lottery funded project that invites everyone to share experiences\, learn skills and come together around a love of books and stories. Together with Gnash Comics\, we invite you to explore the creative world of comics and graphic novels at free events for all Buckfastleigh residents. \nComic art workshop\n\nJoin illustrator Keith Sparrow for a drop in workshop for all ages. Keith is illustrator who will help us to reimagine Buckfastleigh with drama and fantasy\, whilst learning techniques for drawing comic and manga characters.
URL:https://dragonsanctuary.co.uk/event/comic-art-drop-in-afternoon/2019-04-17/
LOCATION:The Dragon Sanctuary\, 34 Bossell Road\, Buckfastleigh\, Devon\, TQ11 0DD\, United Kingdom
CATEGORIES:Classes
ATTACH;FMTTYPE=image/png:https://dragonsanctuary.co.uk/wp-content/uploads/2019/03/Keith-Sparrow.png
ORGANIZER;CN="Friends of Buckfastleigh Library":MAILTO:lucinda@soundartradio.org.uk
GEO:50.4803699;-3.7806423
X-APPLE-STRUCTURED-LOCATION;VALUE=URI;X-ADDRESS=The Dragon Sanctuary 34 Bossell Road Buckfastleigh Devon TQ11 0DD United Kingdom;X-APPLE-RADIUS=500;X-TITLE=34 Bossell Road:geo:-3.7806423,50.4803699
END:VEVENT
BEGIN:VEVENT
DTSTART;TZID=Europe/London:20190311T190000
DTEND;TZID=Europe/London:20190311T220000
DTSTAMP:20260424T183913
CREATED:20190305T131340Z
LAST-MODIFIED:20190305T191235Z
UID:10000153-1552330800-1552341600@dragonsanctuary.co.uk
SUMMARY:12 Characters in Search of an Apocalypse
DESCRIPTION:The 12 Characters project is a worldwide call for community dialog around one of the two most significant challenges of our uncertain times – the ongoing collapse of the web of living beings that supports all life on Earth – a collapse that with each passing day gains momentum. Our goal is to get people talking with one another about what is happening to them\, their families\, and their communities. \n12 Characters in Search of an Apocalypse is brilliant and important work. It is necessary work. I am grateful to Giraffe Social Enterprise for taking this on. If somehow we make it to a more sane way of living\, it will be due to efforts like this one. \n— Derrick Jensen\, author of Endgame\, A Language Older Than Words\, and The Myth of Human Supremacy. \nHow did it come to be?\nThe morning the Brexit referendum results were announced I realized that I had told myself a false story. That because I was an American living in the UK and because I couldn’t vote\, there was nothing I could do about the process.I quickly realized how wrong I had been. I realized that there had been a gaping hole in the referendum process. Where I lived (rural Wales) and in most other places there were no public gatherings for neighbors to sit down and talk with one another about how they would be affected by leaving the EU. \nI decided then and there I wasn’t going to let that happen again. \nI realize that the same gaping whole is happening around what is often called “global warming” or “climate change” – there are no public gatherings where neighbors can share with one another how their families and their communities are being affected by the unravelling of the web of living beings that supports us. \nThis project – 12 Characters in Search of an Apocalypse – is my effort to change that. \nJason E Stewart \nsee: https://12characters.org.uk/ for more information.
URL:https://dragonsanctuary.co.uk/event/12-characters-in-search-of-an-apocalypse/
LOCATION:The Dragon Sanctuary\, 34 Bossell Road\, Buckfastleigh\, Devon\, TQ11 0DD\, United Kingdom
ATTACH;FMTTYPE=image/jpeg:https://dragonsanctuary.co.uk/wp-content/uploads/2019/03/Pic_4.jpeg
ORGANIZER;CN="gayano":MAILTO:gayano@ymail.com
GEO:50.4803699;-3.7806423
X-APPLE-STRUCTURED-LOCATION;VALUE=URI;X-ADDRESS=The Dragon Sanctuary 34 Bossell Road Buckfastleigh Devon TQ11 0DD United Kingdom;X-APPLE-RADIUS=500;X-TITLE=34 Bossell Road:geo:-3.7806423,50.4803699
END:VEVENT
BEGIN:VEVENT
DTSTART;TZID=Europe/London:20190217T150000
DTEND;TZID=Europe/London:20190217T163000
DTSTAMP:20260424T183913
CREATED:20190115T100521Z
LAST-MODIFIED:20190206T095952Z
UID:10000145-1550415600-1550421000@dragonsanctuary.co.uk
SUMMARY:Taizé Singing in the Afternoon
DESCRIPTION:We’ll sing the simple and beautiful songs from Taizé\, a Christian monastery in France. With Leo and Sundara Sofer\, who led Taizé singing in the Findhorn community for 7 years. \nNote the afternoon timing of this event! \nNo booking necessary\, just turn up!
URL:https://dragonsanctuary.co.uk/event/taize-singing-3/
LOCATION:The Dragon Sanctuary\, 34 Bossell Road\, Buckfastleigh\, Devon\, TQ11 0DD\, United Kingdom
CATEGORIES:Singing Events
ATTACH;FMTTYPE=image/jpeg:https://dragonsanctuary.co.uk/wp-content/uploads/2018/12/Tazie-4.jpg
GEO:50.4803699;-3.7806423
X-APPLE-STRUCTURED-LOCATION;VALUE=URI;X-ADDRESS=The Dragon Sanctuary 34 Bossell Road Buckfastleigh Devon TQ11 0DD United Kingdom;X-APPLE-RADIUS=500;X-TITLE=34 Bossell Road:geo:-3.7806423,50.4803699
END:VEVENT
BEGIN:VEVENT
DTSTART;TZID=Europe/London:20180601T130000
DTEND;TZID=Europe/London:20180621T180000
DTSTAMP:20260424T183913
CREATED:20180605T114632Z
LAST-MODIFIED:20180607T084345Z
UID:10000097-1527858000-1529604000@dragonsanctuary.co.uk
SUMMARY:"Angel Finder" - The visionary artwork of Paul Kane
DESCRIPTION:Paul is a self taught illustrator from Coventry\, now living in Buckfastleigh. He has been drawing from an early age\, with a passion for art\, music and cinema. He has drawn inspiration from prog-rock album covers (Yes\, Hawkwood\, Marillion and Pink Floyd) as well as the artwork of 2000ad and DC graphic novels. \nPaul writes: “Angel Finder is a unique collection of drawings I’ve loved and treasured over the years. This is my first exhibition where the original work is for sale. Prices do reflect my own sentiment for them. The teddy bear and child image has become my trademark and makes my work recognisable and personal”.
URL:https://dragonsanctuary.co.uk/event/angel-finder-the-visionary-artwork-of-paul-kane/
LOCATION:The Dragon Sanctuary\, 34 Bossell Road\, Buckfastleigh\, Devon\, TQ11 0DD\, United Kingdom
CATEGORIES:Exhibitions
ATTACH;FMTTYPE=image/jpeg:https://dragonsanctuary.co.uk/wp-content/uploads/2018/05/IMAG0396.jpg
ORGANIZER;CN="David Thomas":MAILTO:karenlmedwards@gmail.com
GEO:50.4803699;-3.7806423
X-APPLE-STRUCTURED-LOCATION;VALUE=URI;X-ADDRESS=The Dragon Sanctuary 34 Bossell Road Buckfastleigh Devon TQ11 0DD United Kingdom;X-APPLE-RADIUS=500;X-TITLE=34 Bossell Road:geo:-3.7806423,50.4803699
END:VEVENT
BEGIN:VEVENT
DTSTART;TZID=Europe/London:20180304T180000
DTEND;TZID=Europe/London:20180304T210000
DTSTAMP:20260424T183913
CREATED:20180307T180421Z
LAST-MODIFIED:20180307T194454Z
UID:10000042-1520186400-1520197200@dragonsanctuary.co.uk
SUMMARY:Opening Evening - Renewals and Reflections
DESCRIPTION:Karn writes:\nRenewal and Reflections – the cycle of the seasons and now spring bringing forth new life. A new start\, a new beginning each day\, with the sunrise and the sunset\, the stillness of water and the stormy seas. \nIt is my love of the peace and tranquility we can find in nature that has influenced me in the paintings that I am doing now. \nI travelled some years ago with my husband and small children in Europe and North Africa\, both of us painted and played music. We spent time in the mountains\, the desert and by the sea\, and the memories of the places we went to have inspired me in these recent paintings. \nPrevious to this\, I studied ceramics at Art College\, worked in potteries in Denmark and at Poole Pottery. I continue to make pottery\, both sculptural and functional. I also studied paint effects\, finishes and murals\, from which I have done several commissions. \nMy paintings are mostly oil on canvas. I have the good fortune of painting with a lovely group of women and learning techniques from a wonderful mentor whose knowledge is truly inspiring.\n				\n\n					\n				\n\n					Brian writes:\nArt is something that I always loved to do – be it painting\, pen doodles and the more fine-art based abstract photography. The photography side of things was where I started from (but even then the artwork was always there – sometimes as inspiration to the photos)\, drawings and abstracts in watercolours and pen and ink\, plus a few tentative attempts at putting ideas down on canvas. \nThe major and more recent “why” comes down to experiencing one of those unwanted\, unwelcome and prolonged periods of being out of work some years ago now. And I was looking for something to fill that otherwise dead time whilst waiting to hear about jobs that so often failed to materialise\, something that wasn’t too much of a drain on my then limited resources. So painting it was! \nInitially starting with a purely abstract – seeing what worked and what didn’t. From there gradually evolving into a more structured approach\, but still keeping that abstract feel to what I was doing. Also seeing how that approach worked on found objects like driftwood\, as well as doing more traditional – i.e. “proper” paintings – and in the last few months blending these two styles together to see how they worked together – one of which is included in the current exhibition. \nI hope you enjoy the exhibition and that the above goes some way to explaining what exactly it is that I do! \nFor further info/commissions please contact: brian.weatherup@homecall.co.uk\nor visit Brian Weatherup on Facebook
URL:https://dragonsanctuary.co.uk/event/opening-evening-renewals-and-reflections/
LOCATION:The Dragon Sanctuary\, 34 Bossell Road\, Buckfastleigh\, Devon\, TQ11 0DD\, United Kingdom
CATEGORIES:Exhibitions,Opening Events
ATTACH;FMTTYPE=image/jpeg:https://dragonsanctuary.co.uk/wp-content/uploads/2018/02/karn-brian-show.jpg
GEO:50.4803699;-3.7806423
X-APPLE-STRUCTURED-LOCATION;VALUE=URI;X-ADDRESS=The Dragon Sanctuary 34 Bossell Road Buckfastleigh Devon TQ11 0DD United Kingdom;X-APPLE-RADIUS=500;X-TITLE=34 Bossell Road:geo:-3.7806423,50.4803699
END:VEVENT
END:VCALENDAR